BEGIN:VCALENDAR
VERSION:2.0
PRODID:-//http://bomi40.eu///NONSGML kigkonsult.se iCalcreator 2.10.15//
METHOD:PUBLISH
BEGIN:VEVENT
UID:20260419T214233CEST-2039biXwxK@http://bomi40.eu/
DTSTAMP:20260419T194233Z
DESCRIPTION:Anhand verschiedener Vorträge lernen Sie methodische und techno
 logische Lösungen zum Einsatz von Maschinellem Lernen. Im Mittelpunkt steh
 en Einsatzmöglichkeiten von ML für die Robotik\, dessen Mehrwerte für den 
 Robotereinsatz und Anwendungsbeispiele.\nThemen an zwei Schulungstagen – A
 ktuelle und zukünftige Anwendungsgebiete von Machine Learning (ML) und Dee
 p Learning in der Automatisierungstechnik und Robotik – Methodenbaukasten 
 für ML und Robotik – Architekturen Tiefer Neuronaler Netzwerke – Robot Vis
 ion – Deep Reinforcement Learning für Robotik – Greifplanung für Roboter –
  Einführung in eine Simulationssoftware und Techniken für Sim-to-Real Tran
 sfer – Best-Practice-Beispiele des Fraunhofer IPA und Erklärung der Übunge
 n\nPraxisphase – Übungen im virtuellen Lernlabor im Umfang von zwei Arbeit
 stagen im Zeitraum von zwei Monaten – Lösung und Abgabe einer vorgegebenen
  Aufgabe zum Nachweis der praktischen Anwendung des Gelernten\nVoraussetzu
 ngen Zur Teilnahme am Kurs sollten Grundkenntnisse in Machine Learning\, D
 eep Learning und Statistik sowie solide Programmiererfahrung in Python vor
 handen sein.\nWeitere Informationen zur Veranstaltung und die Möglichkeit 
 zur Anmeldugn finden Sie hier. http://bomi40.eu/de/service-kompetenz/veran
 staltungen/ort/event/1767-ml-expertenschulung-cognitive-robotics
DTSTART:20191126T083000Z
DTEND:20191127T190000Z
LOCATION:Frauenhofer-Institut für Produktionstechnik und Automatisierung IP
 A (Turm 3\, Nobelstraße 12\, 70569 Stuttgart\, Deutschland)
SUMMARY:ML-Expertenschulung Cognitive Robotics
URL:http://bomi40.eu/de/service-kompetenz/veranstaltungen/ort/event/1767-ml
 -expertenschulung-cognitive-robotics
END:VEVENT
END:VCALENDAR
