BEGIN:VCALENDAR
VERSION:2.0
PRODID:-//http://bomi40.eu///NONSGML kigkonsult.se iCalcreator 2.10.15//
METHOD:PUBLISH
BEGIN:VEVENT
UID:20260419T215053CEST-9894u5HWwa@http://bomi40.eu/
DTSTAMP:20260419T195053Z
DESCRIPTION:Unter dem Stichwort DesignChain gibt das Seminar einen Überblic
 k\, wie die Vision eines durchgängigen\, hoch automatisierten Prozesses – 
 von der Aufnahme der Kundenanforderungen bis zur Übergabe eines validierte
 n NC-Codes in die Produktion – realisiert werden kann.\nEs werden sowohl E
 xperten aus der Wissenschaft\, Anbieter von Softwarelösungen als auch indu
 strielle Anwender der CAx-Prozesskette (CAD – PDM – CAM) einen Einblick in
  die neuesten Entwicklungen einer durchgängig automatisierten Prozesskette
  geben. Dazu werden nötige Kompetenzen und Tools vorgestellt\, um Kundenan
 forderungen automatisiert in Produktmerkmale zu transformieren.\nThemen\n
 \nKundenanforderungen automatisiert in Produktmerkmale transformieren\nVon
  der parametrischen Konstruktion automatisiert zum NC-Code\nDigitale Valid
 ierung als Grundlage für eine automatisierte Produktion\nDigitaler Zwillin
 g in der Produktion\nExemplarische Toolvorstellung\n\nZielgruppe\nFührungs
 kräfte und Mitarbeiter von KMUs aus dem Bereich der Konstruktion\, Arbeits
 vorbereitung und der IT mit dem Ziel des Aufbaus einer State of the Art De
 signChain.\nWeitere Informationen zur Veranstaltung und die Möglichkeit zu
 r Anmeldung finden SIe auf der Website der Veranstalter... http://bomi40.e
 u/de/service-kompetenz/veranstaltungen/ort/event/1768-designchain-4-0-relo
 aded
DTSTART:20191205T073000Z
DTEND:20191205T160000Z
LOCATION:Frauenhofer-Institut für Produktionstechnik und Automatisierung IP
 A (Turm 3\, Nobelstraße 12\, 70569 Stuttgart\, Deutschland)
SUMMARY:DesignChain 4.0 – Reloaded
URL:http://bomi40.eu/de/service-kompetenz/veranstaltungen/ort/event/1768-de
 signchain-4-0-reloaded
END:VEVENT
END:VCALENDAR
