BEGIN:VCALENDAR
VERSION:2.0
PRODID:-//http://bomi40.eu///NONSGML kigkonsult.se iCalcreator 2.10.15//
METHOD:PUBLISH
BEGIN:VEVENT
UID:20260419T193128CEST-8989HliChA@http://bomi40.eu/
DTSTAMP:20260419T173128Z
DESCRIPTION:Sie sind GründerIn oder MitarbeiterIn in einem Startup\, kleine
 n oder mittleren Unternehmen und möchten sich in lockerer Atmosphäre mit a
 nderen Interessierten über verschiedene Fragestellungen im Themenfeld Usab
 ility und User Experience (kurz: UUX) austauschen? Dann lädt bwcon Sie im 
 Namen des Mittelstand 4.0-Kompetenzzentrum Usability herzlich zur Veransta
 ltungsreihe “UUXchange” an der Hochschule der Medien in Stuttgart ein!\nDe
 r dritte Workshop am 4. Dezember 2019 beschäftigt sich mit aktuellen Frage
 stellungen zum Thema Zukunft der Arbeit. Der UUXchange wird im Rahmen eine
 s Workshop-Formats organisiert\, bei dem der Austausch zwischen den Teilne
 hmern im Vordergrund steht. Wie wird das Thema Zukunft der Arbeit in Ihrem
  Unternehmen angegangen? Welche Herausforderungen gibt es derzeit und welc
 he Lösungsansätze werden angewandt.\nWeitere Informationen zur Veranstaltu
 ng sowie die Möglichkeit zur Anmeldugn finden SIe auf der Website der Vera
 nstalter... http://bomi40.eu/de/service-kompetenz/veranstaltungen/ort/even
 t/1770-uuxchange-zukunft-der-arbeit
DTSTART:20191204T163000Z
DTEND:20191204T183000Z
LOCATION:Playpark des Pavillons der Hochschule der Medien (Nobelstraße 10\,
  70569 Stuttgart\, Deutschland)
SUMMARY:UUXchange – Zukunft der Arbeit
URL:http://bomi40.eu/de/service-kompetenz/veranstaltungen/ort/event/1770-uu
 xchange-zukunft-der-arbeit
END:VEVENT
END:VCALENDAR
