BEGIN:VCALENDAR
VERSION:2.0
PRODID:-//http://bomi40.eu///NONSGML kigkonsult.se iCalcreator 2.10.15//
METHOD:PUBLISH
BEGIN:VEVENT
UID:20260419T192947CEST-0443Vch2V4@http://bomi40.eu/
DTSTAMP:20260419T172947Z
DESCRIPTION:\nProgramme Description\n\nIn today's business environment\, un
 certainty dominates. Leaders are under increasing pressure to take innovat
 ive action in environments where traditional management approaches can lac
 k the flexibility and speed to effectively respond. However\, they often f
 ind themselves embedded in organisational silos and processes that prevent
  them from taking action when it's needed.\nDesign thinking and other agil
 e approaches can invigorate organisational momentum\, enabling leaders to 
 identify new opportunities to drive their businesses into the future. In t
 his course\, you will dive into the design thinking process\, experiencing
  first-hand how a human-centred organisational mindset can provide a frame
 work for quickly identifying opportunities and potential pitfalls in your 
 business and its environment.&nbsp\;\nThroughout the seminar\, you will le
 verage your insights in tackling your own strategic challenges. Keynotes f
 rom leaders who have implemented human-centric leadership in their organiz
 ations provide insight into critical ingredients for success.\n\n\n\nTarge
 t Audience\n\nThis programme is aimed at senior and mid-level executives w
 ho want to leverage the potential of human-centred and agile frameworks\, 
 methods and tools to take action in their organisations. It is particularl
 y appropriate for managers facing strategic and transformation challenges 
 in their organisations.\nParticipants should come with an interest in inno
 vation methodologies and creativity techniques and concrete questions rega
 rding how to achieve innovative impact in their specific business context.
 \n\nProgramme Benefits\n\nYou leave this course with\n\nPowerful human-cen
 tred frameworks and tools for cultivating an organizational culture that t
 olerates failure in order to promote speed\, enable learning and drive cre
 ativity &nbsp\;\nA prototyped solution for your own business challenge\, a
 long with insights from testing\nNew relationships with like-minded action
  takers\n\nFurther information about the event and the opportunitiy to reg
 ister can be found here.\n\n\n\n http://bomi40.eu/de/service-kompetenz/ver
 anstaltungen/ort/event/1798-creating-the-agile-organisation-with-design-th
 inking
DTSTART:20200129T230000Z
DTEND:20200131T230000Z
LOCATION:Design Thinking Loft of the University of St.Gallen (Blumenbergpl.
  9\, 9000 St. Gallen\, Schweiz)
SUMMARY:Creating the Agile Organisation with Design Thinking
URL:http://bomi40.eu/de/service-kompetenz/veranstaltungen/ort/event/1798-cr
 eating-the-agile-organisation-with-design-thinking
END:VEVENT
END:VCALENDAR
