BEGIN:VCALENDAR
VERSION:2.0
PRODID:-//http://bomi40.eu///NONSGML kigkonsult.se iCalcreator 2.10.15//
METHOD:PUBLISH
BEGIN:VEVENT
UID:20260419T191003CEST-41227TSWvp@http://bomi40.eu/
DTSTAMP:20260419T171003Z
DESCRIPTION:Nach der erfolgreichen Gründung des ersten Vereins rund um Augm
 ented Reality (AR) in der Schweiz findet nun bereits die zweite Episode de
 r Eventserie statt. «arc» bildet mit allen Mitgliedern ein Ökosystem\, das
 s sich gegenseitig inspiriert und über neue Errungenschaften berichtet. Se
 it Mai 2019 ist es offiziell: ein mittlerweile über zehnköpfiges Team hat 
 sich auf die Fahne geschrieben\, Augmented Reality in der Schweiz mit konk
 reten Projekten zu etablieren und zu fördern. In einem transparenten Dialo
 g teilen die Mitglieder und Partner ihre Begeisterung\, Erfahrungswerte un
 d Ideen\, um sich gegenseitig in der Entwicklung neuer Projekte und Geschä
 ftsmodelle zu unterstützen.\nBesucher vom Event erhalten einen exklusiven 
 Einblick in die geplanten und realisierten Projekte mit dem Technologietre
 nd. Zudem gibt das Research-Duo von «arc» eine Übersicht zu den aktuellen 
 Forschungsprojekten und Errungenschaften rund um den Globus.\nProgramm\n14
 .30 Uhr Eintreffen der Gäste im RUZ Aarau-West15.00 Uhr Eröffnung und «ice
 -breaker»15.15 Uhr Impulsreferat von Morell Westermann\, Senior Partner un
 d Futurist bei Future Matters AG15.50 Uhr State of research durch Safak Ko
 rkut und Markus Loosli16.00 Uhr Pause16.10 Uhr Infos zum «Project circle» 
 Ausblick16.30 Uhr «Project circle» – Erleben der Projekte der «arc-Partner
 » mit anschliessendem Apéro & Netzwerken\nWeitere Informationen zu der Ver
 anstaltung finden Sie auf der Webseite des RUZ... http://bomi40.eu/de/serv
 ice-kompetenz/veranstaltungen/ort/event/1799-arc-augmented-reality-cluster
 -episode-2
DTSTART;VALUE=DATE:20200131
LOCATION:RUZ Aarau-West  (Muhenstrasse 48\, 5036 Oberentfelden\, Schweiz)
SUMMARY:arc- augmented reality cluster\, Episode 2
URL:http://bomi40.eu/de/service-kompetenz/veranstaltungen/ort/event/1799-ar
 c-augmented-reality-cluster-episode-2
END:VEVENT
END:VCALENDAR
