BEGIN:VCALENDAR
VERSION:2.0
PRODID:-//http://bomi40.eu///NONSGML kigkonsult.se iCalcreator 2.10.15//
METHOD:PUBLISH
BEGIN:VEVENT
UID:20260419T204635CEST-3245tfRDeF@http://bomi40.eu/
DTSTAMP:20260419T184635Z
DESCRIPTION:Work & Processes: digitales Arbeiten mit dem benutzerorientiert
 en Digital Workplace?\nDer Digital Workplace fängt beim Mitarbeiter und se
 iner Arbeitsweise an. Welche Applikationen und Funktionen können seine Pro
 zesse unterstützen und wie können Sie Mobilität und Sicherheit gleichermaß
 en gewährleisten? Mitarbeiter sind heutzutage mit einer Vielzahl von digit
 alen Tools und Anwendungen konfrontiert\, welche das Arbeiten unterstützen
  und effizienter machen sollen. Doch oftmals bestimmt die Applikation die 
 Arbeitsweise\, anstatt zu unterstützen.\nAn praxisnahen Beispielen zeigen 
 Michael Stingel und Alexander Glück wie ein gutes Zusammenspiel der Anwend
 ungen aussehen kann: Mitarbeiter und Prozesse verstehen\, die Arbeit erlei
 chtern und passende Lösungen gemeinsam evaluieren.\nDurch die Verbesserung
  der digitale Benutzererfahrung am Arbeitsplatz wird der Digital Workplace
  zum Erfolg im Unternehmen.\nKommen Sie zum kostenlosen Impuls Vortrag! Bi
 tte melden Sie sich unter diesem Link zur Veranstaltung an.\nVeranstalter 
 ist die bwcon. Weitere Informationen zu der Veranstaltung finden Sie hier.
  http://bomi40.eu/de/service-kompetenz/veranstaltungen/ort/event/1813-digi
 tal-workplace-impuls-vortrag-work-processes
DTSTART;VALUE=DATE:20200218
LOCATION:ADLON Intelligent Solutions GmbH (Albersfelder Str. 30\, 88213 Rav
 ensburg\, Deutschland)
SUMMARY:Digital Workplace Impuls Vortrag: Work & Processes 
URL:http://bomi40.eu/de/service-kompetenz/veranstaltungen/ort/event/1813-di
 gital-workplace-impuls-vortrag-work-processes
END:VEVENT
END:VCALENDAR
