BEGIN:VCALENDAR
VERSION:2.0
PRODID:-//http://bomi40.eu///NONSGML kigkonsult.se iCalcreator 2.10.15//
METHOD:PUBLISH
BEGIN:VEVENT
UID:20260419T193113CEST-7926rtpP5A@http://bomi40.eu/
DTSTAMP:20260419T173113Z
DESCRIPTION:Studierende der Fachrichtung Wirtschaftsinformatik der DHBW hab
 en in Kooperation mit Industriepartnern und Hochschulen in Österreich und 
 der Schweiz an einem 3D-Druck Projekt gearbeitet: Die Möglichkeiten grenzü
 berschreitender Fertigung wurde im Detail betrachtet und hinsichtlich folg
 ender Auswirkungen analysiert.\nDie Resultate dieser Arbeit wird der Studi
 engangsleiter Prof. Dr. Jan M. Olaf vorstellen.&nbsp\;Über die technischen
  Besonderheiten wird Dr. Jan-Arne Gewert referieren. Anschließend gibt es 
 die Möglichkeit zum Austausch und einer regen Diskussion.\nDie Veranstaltu
 ng beginnt um 18.00 Uhr.\nBitte melden Sie Ihre Teilnahme an\, damit die V
 eranstalter die Veranstaltung angemessen vorbereiten können. Die Teilnahme
  ist kostenlos.\nWeitere Informationen zu der Veranstaltung finden Sie auf
  der Website Connect Dreiländereck... http://bomi40.eu/de/service-kompeten
 z/veranstaltungen/ort/event/1817-loerrach-innovativ-praesentiert-fallstudi
 en-3d-druck
DTSTART;VALUE=DATE:20191217
LOCATION:DHBW Lörrach  (Hangstraße 46-50\, 79539 Lörrach\, Deutschland)
SUMMARY:Lörrach innovativ präsentiert: Fallstudien 3D-Druck
URL:http://bomi40.eu/de/service-kompetenz/veranstaltungen/ort/event/1817-lo
 errach-innovativ-praesentiert-fallstudien-3d-druck
END:VEVENT
END:VCALENDAR
