BEGIN:VCALENDAR
VERSION:2.0
PRODID:-//http://bomi40.eu///NONSGML kigkonsult.se iCalcreator 2.10.15//
METHOD:PUBLISH
BEGIN:VEVENT
UID:20260419T191354CEST-9722v8KpFt@http://bomi40.eu/
DTSTAMP:20260419T171354Z
DESCRIPTION:Etablierte Unternehmen und junge Start-ups verfügen oftmals übe
 r ganz unterschiedliche Stärken und Schwächen\, die sich aber sehr gut erg
 änzen können. Kooperationen können daher für alle Seiten sehr vielversprec
 hend sein\, bringen jedoch auch zahlreiche Fragen und neue Herausforderung
 en mit sich. Wir stellen Unternehmen aus der Region St.Gallen vor\, die be
 reits unterschiedliche Erfahrungen in diesem Bereich sammeln konnten.\nDer
  Unternehmensspiegel ist der KMU-Wirtschaftsanlass in St.Gallen\, veransta
 ltet vom Institut für Unternehmensführung IFU-FHS. Das Thema des 11. Unter
 nehmensspiegel Ostschweiz heisst: «Kooperationen zwischen etablierten Unte
 rnehmen und jungen Start-ups».\n\nWelche Kooperationsformen eignen sich fü
 r unterschiedliche Zielsetzungen?\nWelche regionalen Firmen haben bereits 
 Erfahrungen sammeln können?\nWelche Erkenntnisse und Handlungsempfehlungen
  lassen sich für KMU ableiten?\n\nDiesen und weiteren Fragen gehen wir auf
  den Grund und beleuchten mit unseren Gästen die Vorteile und Stolperstein
 e aus unterschiedlichen Perspektiven.\nBeim anschliessenden Apéro riche ha
 ben Sie die Gelegenheit\, sich mit anderen Unternehmensvertretern über die
  Impulse und Weiteres auszutauschen.\nDie Veranstaltung findet auch am Mit
 twoch\, den 18. März 2020 in Taufen statt.\nWeitere Informationen zur Vera
 nstaltung sowie die Möglichkeit zur Anmeldung finden Sie auf der Website d
 er Veranstalter... http://bomi40.eu/de/service-kompetenz/veranstaltungen/o
 rt/event/1828-11-unternehmensspiegel-ostschweiz
DTSTART:20200303T170000Z
DTEND:20200303T225900Z
LOCATION:St. Gallen (Olma Halle 2.1\, Splügenstrasse 12\, 9008 St. Gallen\,
  Schweiz)
SUMMARY:11. Unternehmensspiegel Ostschweiz
URL:http://bomi40.eu/de/service-kompetenz/veranstaltungen/ort/event/1828-11
 -unternehmensspiegel-ostschweiz
END:VEVENT
END:VCALENDAR
