BEGIN:VCALENDAR
VERSION:2.0
PRODID:-//http://bomi40.eu///NONSGML kigkonsult.se iCalcreator 2.10.15//
METHOD:PUBLISH
BEGIN:VEVENT
UID:20260419T203247CEST-4687NAkez2@http://bomi40.eu/
DTSTAMP:20260419T183247Z
DESCRIPTION:Zielsetzung:\nErfahren Sie die wichtigsten Einsatzmöglichkeiten
  und Funktionen von diesem digitalen Arbeitsbuch. Nutzen Sie dieses Inform
 ations- und Arbeitsinstrument\, um Ihre Aufgaben noch besser zu organisier
 en und strukturieren. Mit OneNote bringen Sie Ihre Arbeitsorganisation in 
 eine effektivere und leistungsfähigere Form.\nInhalt:\n\nSo funktioniert O
 neNote\nNutzen Sie Aufgabenlisten\, Dokumentensammlungen\, Scans\, Bilder\
 , Videos\, Audioaufzeichnungen und vieles mehr.\nSo unterstützen Sie einen
  vielreisenden Chef perfekt: einfachste Organisation auch über Distanz!\nV
 orteile\, wie Sie Ihre eigenen Projekte spielend strukturieren und organis
 ieren können\nSie erfahren\, wie Sie nach der Sitzung bzw. Besprechung Auf
 gaben und Ergebnisse transparent machen und Aufgaben nachhaltig abarbeiten
 .\nInformationsfluss aktiv gestalten\nErfahren Sie\, wie Sie mit wenigen A
 rbeitsschritten Ihr eigenes Organisationshandbuch aufbauen können: für Url
 aubsvertretung\, Jobsharing und Arbeitsprozesse.\n\nWeitere Informationen 
 zur Veranstaltung sowie die Möglichkeit zur Anmeldung finden Sie hier. htt
 p://bomi40.eu/de/service-kompetenz/veranstaltungen/ort/event/1844-geniale-
 organisation-mit-onenote
DTSTART:20200421T070000Z
DTEND:20200421T103000Z
LOCATION:IHK Bodensee-Oberschwaben (Lindenstraße 2\, 88250 Weingarten\, Deu
 tschland)
SUMMARY:Geniale Organisation mit OneNote
URL:http://bomi40.eu/de/service-kompetenz/veranstaltungen/ort/event/1844-ge
 niale-organisation-mit-onenote
END:VEVENT
END:VCALENDAR
