BEGIN:VCALENDAR
VERSION:2.0
PRODID:-//http://bomi40.eu///NONSGML kigkonsult.se iCalcreator 2.10.15//
METHOD:PUBLISH
BEGIN:VEVENT
UID:20260419T202540CEST-7443pVkHzW@http://bomi40.eu/
DTSTAMP:20260419T182540Z
DESCRIPTION:Zielsetzung:\nDer Wettbewerb hat sich im digitalen Zeitalter ra
 sant beschleunigt. Täglich erscheinen innovative Produkte und Startups im 
 Internet. Wie kann der Mittelstand Schritt halten?\nSie brauchen keine kos
 tspieligen Verfahren aus den USA\, um Ihre eigenen Ressourcen zu nutzen. I
 n Ihren Mitarbeitern vom Entwickler bis zum Auszubildenden\, vom Verkäufer
  bis zur Sekretärin\, schlummern innovative Fähigkeiten. Jeder Mensch ist 
 von Geburt aus kreativ. Mit den richtigen Prozessen und den notwendigen Ra
 hmenbedingungen können Sie dieses Kapital in innovative Wettbewerbsvorteil
 e umsetzen. In diesem Seminar lernen Sie\, mit welchen Praxis erprobten Sc
 hritten Sie Ihr Unternehmen „fit für Innovationen“ machen.\nInhalt:\n\nWor
 an Sie kreative Querdenker im Unternehmen erkennen und wie Sie einen Brain
 pool zusammenstellen.\nSie erproben den Kreativ-Prozess und erleben\, wodu
 rch er nachhaltig unterstützt wird.\nDie vier Stufen vom Problem zur innov
 ativen Lösung in der Praxis.\nWie Sie im betrieblichen Ablauf mit einfache
 n Mitteln Freiraum für Innovationen schaffen.\nWas „Design Thinking“ ist u
 nd was Sie von diesem Erfolgskonzept lernen können.\n\nZielgruppe:\nUntern
 ehmer\, Geschäftsführer\, Führungskräfte und Personalleiter.\nWeitere Info
 rmationen zur Veranstaltung sowie die Möglichkeit zur Anmeldung finden Sie
  auf der Website des Veranstalters... http://bomi40.eu/de/service-kompeten
 z/veranstaltungen/ort/event/1845-fit-for-innovation
DTSTART:20200421T070000Z
DTEND:20200421T150000Z
LOCATION:IHK Bodensee-Oberschwaben (Lindenstraße 2\, 88250 Weingarten\, Deu
 tschland)
SUMMARY:Fit for Innovation
URL:http://bomi40.eu/de/service-kompetenz/veranstaltungen/ort/event/1845-fi
 t-for-innovation
END:VEVENT
END:VCALENDAR
