BEGIN:VCALENDAR
VERSION:2.0
PRODID:-//http://bomi40.eu///NONSGML kigkonsult.se iCalcreator 2.10.15//
METHOD:PUBLISH
BEGIN:VEVENT
UID:20260419T193106CEST-6525G3zFAb@http://bomi40.eu/
DTSTAMP:20260419T173106Z
DESCRIPTION:Industrieforum Digitaler Mittelstand 2021\nUnter der Schirmherr
 schaft von Klaus Helmrich\, Mitglied des Vorstands der Siemes AG & CEO\, S
 iemens Digital Industries\, ist die Konferenz entlang der vier Themen ”Val
 ue-add digital solutions”\, “IT Architektur & IIoT\, “New Production Techn
 ologies” und “Corporate & Factory Culture” organisiert.\nInhaltliche Ausri
 chtung:\n\nDigitale Lösungen\nOrganisation & Kultur\nIT Architektur &IIoT
 \nNeue Produktionstechnologien\n\nDas Forum Deutscher Mittelstand ist mit 
 über 550 Teilnehmern und mehr als 70 Ausstellern eine exklusive Plattform 
 zur Digitalisierung des deutschen Mittelstands. Jährlich treffen sich digi
 tale Vordenker\, Geschäftsführung und Manager\, um an zwei Konferenztagen 
 und Projektpartner für die digitale Zukunft Ihres Unternehmens zu erhalten
 . In Keynote-Reden\, Masterclass-Diskussionen und Workshops bearbeiten die
  Teilnehmer Chancen\, Risiken und Best-Practices der Digitalisierung entla
 ng der unternehmerischen Wertschöpfungskette.\n\n\nAbgerundet wird das Pro
 gramm durch die begleitende Fachausstellung\, in der Lösungen zur Digitali
 sierung in produzierenden Unternehmen präsentiert werden. Das Forum Deutsc
 her Mittelstand wurde auf Initiative von Klaus Helmrich\, Mitglied des Vor
 stands\, Siemens AG im Jahr 2018 gegründet. Siemens unterstützt seitdem da
 s gesamte Event als Kompetenzpartner.\nNeben Teilnehmertickets existieren 
 Optionen für Aussteller und Sponsoren sich individuell zu präsentieren.\nW
 eitere Informationen zu der Veranstaltung und dem genauen Programm finden 
 Sie auf der Website Forum Deutscher Mittelstand.\n\n\n&nbsp\; http://bomi4
 0.eu/de/service-kompetenz/veranstaltungen/ort/event/1849-industrieforum-di
 gitaler-mittelstand-2021
DTSTART:20210303T070000Z
DTEND:20210304T144500Z
LOCATION:ICS Internationales Congresscenter Stuttgart (Messepiazza 1\, 7062
 9 Stuttgart)
SUMMARY:Industrieforum Digitaler Mittelstand 2021
URL:http://bomi40.eu/de/service-kompetenz/veranstaltungen/ort/event/1849-in
 dustrieforum-digitaler-mittelstand-2021
END:VEVENT
END:VCALENDAR
