BEGIN:VCALENDAR
VERSION:2.0
PRODID:-//http://bomi40.eu///NONSGML kigkonsult.se iCalcreator 2.10.15//
METHOD:PUBLISH
BEGIN:VEVENT
UID:20260419T180411CEST-4979K7R3hA@http://bomi40.eu/
DTSTAMP:20260419T160411Z
DESCRIPTION:«Der digitale Zwilling: virtuelle und reale Welt verbinden»\nEs
  nützt leider alles nichts – die Corona Krise hat uns fest im Griff und di
 e NTB Buchs kann den diesjährigen Technologietag nicht wie gewohnt abhalte
 n. Aber: wer von Digitalisierung\, von virtuellen und realen Welten sprech
 en will\, muss auch Taten folgen lassen.\nDaher laden die Veranstalter Sie
  dieses Jahr zu einem speziellen NTB Technologietag DIGITAL ein. In einem 
 Zeitrahmen von 2 Stunden werden Ihnen in 9 Beiträgen neueste Entwicklungen
  zum Thema Digitaler Zwilling vorgestellt. Alles online auf einer Webplatt
 form. Die Vortragenden stehen Ihnen dabei für online Fragen und Diskussion
 en zur Verfügung. Und zum Schluss offerieren die Veranstalter noch einen k
 leinen virtuellen Apero – das sollten sie sich nicht nehmen lassen. Sie ha
 ben sich bereits für unseren «klassischen» NTB Technologietag angemeldet. 
 Die NTB Buchs bedankt sich ganz herzlich für Ihr Interesse und Ihre Verbun
 denheit mit der NTB. Die Veranstalter hoffen\, dass die digitale Version I
 hnen einen Ersatz bieten kann.\nDie Plattform wird am 18. Juni 2020 freige
 schaltet und die live Begrüssung ist um 15:00 Uhr.\nEs erwarten Sie je 3 s
 pannende Kurzvorträge zu folgenden Themenfeldern\n\n«Mehrwert aus Daten»\n
 «Reales Modell»\n«Virtuelles Modell»\n\nWeitere Informationen zu der virtu
 ellen Veranstaltung und dem Programm finden Sie auf der Website der NTB Bu
 chs... http://bomi40.eu/de/service-kompetenz/veranstaltungen/ort/event/186
 3-ntb-technologietag-2020-digital
DTSTART:20200618T130000Z
DTEND:20200618T153000Z
LOCATION: Online an Ihrem PC oder Laptop ()
SUMMARY:NTB Technologietag 2020 - Digital
URL:http://bomi40.eu/de/service-kompetenz/veranstaltungen/ort/event/1863-nt
 b-technologietag-2020-digital
END:VEVENT
END:VCALENDAR
