BEGIN:VCALENDAR
VERSION:2.0
PRODID:-//http://bomi40.eu///NONSGML kigkonsult.se iCalcreator 2.10.15//
METHOD:PUBLISH
BEGIN:VEVENT
UID:20260419T191011CEST-2772gONbk6@http://bomi40.eu/
DTSTAMP:20260419T171011Z
DESCRIPTION:Der Start-Up BW Summit&nbsp\; ist ein Klassen- und Netzwerktref
 fen für Start-Ups\, der globalen Start-Up Szene und aller Start-Up relevan
 ter Stakeholder. Erwartet werden ca. 7.000 Teilnehmer an den zwei Tagen.\n
 Folgende Zielgruppen werden vom Start-Up Summit angesprochen:\n\nStart-Ups
 \nUnternehmen und KMU\nInvestoren\, Banken und weitere finanzielle Institu
 tionen\n\nIm Rahmen des Summit gibt es mehrere Möglichkeiten zur aktiven T
 eilnahme:\n\nPräsentation der Region mit den dortigen Partnern und zu biet
 enden Möglichkeiten. Bringen Sie Ihre Start-Ups ins Spiel. Start-Up BW hat
  eine limitierte Anzahl an exklusiven Ausstellungsplätzen für eine ausgewä
 hlte Gruppe an „Ökosystemen“ sowie für die 500 besten Start-Ups der Welt r
 eserviert.\nWerden Sie Teil des Start-Up BW Summit und werben Sie junge St
 art-Up Talente mit innovativen Ideen für Ihre Netzwerk an und kommen Sie i
 n Kontakt mit anderen internationalen öffentlichen und privaten Stakeholde
 rn.\nAktivieren Sie die Start-Ups aus Ihrer Region\, damit diese beim Star
 t-Up Europe Summit (Kongress) teilnehmen und auf der parallel stattfindend
 en Messe des Start-Up BW Summit ausstellen.\n\nDas Programm:\n23. Juli 202
 0\n8:00 UhrAdmissionAb 8:30 UhrLounge of ecosystems10 UhrPlenary Session |
  OpeningAb 11:45 Uhr bis 17:00 UhrBreakout Sessions | Funding & Financing\
 , Start-up Cities and regional Ecosystems\, The future of Mobility and Aut
 omotive Industries\, The future of Health\, New fields for digital Start-u
 ps\, Female Start-ups taking another way to success?!17:00 Uhr Plenary Ses
 sion | Wrap upAb 17:30 UhrStart-up BW Party\n&nbsp\;23. Juli 2020\n9:00 Uh
 rAdmission10:00 UhrOpening by top politiciansVon 9:00 Uhr bis 18:30 UhrExh
 ibition | International Top Speakers | Success Stories | Best Practices | 
 Matchmaking | Networking | Pitch Competition | Side EventsAb 18:30 Uhr Con
 clusion and an after-work beer\nWeitere Informationen zur Veranstaltung so
 wie die Möglichkeit zur Anmeldung finden Sie hier. http://bomi40.eu/de/ser
 vice-kompetenz/veranstaltungen/ort/event/1880-start-up-bw-summit-2020
DTSTART:20200722T220000Z
DTEND:20200723T220000Z
LOCATION:Landesmesse Stuttgart (Messepiazza 1\, 70629 Leinfelden-Echterding
 en\, Deutschland)
SUMMARY:Start-Up BW Summit  2020
URL:http://bomi40.eu/de/service-kompetenz/veranstaltungen/ort/event/1880-st
 art-up-bw-summit-2020
END:VEVENT
END:VCALENDAR
