BEGIN:VCALENDAR
VERSION:2.0
PRODID:-//http://bomi40.eu///NONSGML kigkonsult.se iCalcreator 2.10.15//
METHOD:PUBLISH
BEGIN:VEVENT
UID:20260419T191254CEST-9584u6nK0A@http://bomi40.eu/
DTSTAMP:20260419T171254Z
DESCRIPTION:\n\n\n\n\nDas Investors Forum bietet als Match-Making-Event aus
 gewählten\, innovativen Start-ups unterschiedlicher Branchen in den Phasen
  Start-up und Wachstum sowie hochkarätigen Investoren die Gelegenheit\, si
 ch zu begegnen. Startfeld veranstaltet das Forum auch 2020 wieder zwei Mal
  in der Ostschweiz. Als Supportpartner sind Startup INVEST (vormals CTI In
 vest) und dem Swiss ICT Investor Club (SICTIC)\, die beiden führenden Schw
 eizer Finanzierungsplattformen\, mit an Bord. Beim Investors Forum sind au
 sschliesslich Start-ups und die Investoren anwesend. Danach besteht die Mö
 glichkeit\, sich weiter auszutauschen und vertieft kennenzulernen.\n\n\nDi
 e Qualität der Start-ups wird durch folgende Zulassungskriterien gewährlei
 stet:\n\nIm Innosuisse Start-up Coaching Prozess (Coaching Acceptance) ode
 r\nInnosuisse Start-up Label oder\nStartfeld Förderpaket «INTENSIV» oder\n
 Swiss ICT Investor Club (SICTIC) – Start-ups\n\nDie Start-ups werden von C
 oaches der Innosuisse-Schweizerische Agentur für Innovationsförderung und 
 / oder Startfeld begleitet und erhalten im Vorfeld des Investors Forum ein
  obligatorisches Pitch-Training.\nDer angestrebte Mindestbetrag pro Invest
 ment beträgt CHF 50‘000.00.\n\n\n\n\nDer START Summit\nAm START Summit ver
 sammeln sich rund 3000 Gründer\, Investoren und Studenten mit einem techno
 logischen Schwerpunkt auf AI\, AR/VR\, Blockchain und IoT. Dabei wird ein 
 vielseitiges Programm geboten:\n\nKeynote Speeches von Top-Speakern\nPitch
 ing Competitions\n1-to-1 Meetings mit Startups\nExklusive Events\, um mit 
 Investoren zu Networken\n\nDas Programm sieht wie folgt aus:\n\n\n\nab ca.
  15:15 Uhr\nEintreffen Gäste\n\n\n15:30 Uhr\nBegrüssung\n\n\n15:35 Uhr\nPr
 äsentationen\n\n\n17:00 Uhr\nPause\n\n\n17:15 Uhr\nPräsentationen\n\n\n18:
 15 Uhr\nFeedback & Ausblick\n\n\n\nWeitere Informationen zur Veranstaltung
  sowie die Möglichkeit zur Anmeldung finden Sie auf der Website der Verans
 talter...\n\n\n\n\n\n\n http://bomi40.eu/de/service-kompetenz/veranstaltun
 gen/ort/event/1884-14-investors-forum-start-summit-2020
DTSTART:20200319T141500Z
DTEND:20200319T171500Z
LOCATION:Jakobstraße 82\, Konstanz (Jakobstraße 82\, 78464 Konstanz\, Deuts
 chland)
SUMMARY:14. Investors Forum @ Start Summit 2020
URL:http://bomi40.eu/de/service-kompetenz/veranstaltungen/ort/event/1884-14
 -investors-forum-start-summit-2020
END:VEVENT
END:VCALENDAR
