BEGIN:VCALENDAR
VERSION:2.0
PRODID:-//http://bomi40.eu///NONSGML kigkonsult.se iCalcreator 2.10.15//
METHOD:PUBLISH
BEGIN:VEVENT
UID:20260419T192134CEST-3082H8tMV4@http://bomi40.eu/
DTSTAMP:20260419T172134Z
DESCRIPTION:Das Investors Forum bietet als Match-Making-Event ausgewählten\
 , innovativen Start-ups unterschiedlicher Branchen in den Phasen Start-up 
 und Wachstum sowie hochkarätigen Investoren die Gelegenheit\, sich zu bege
 gnen. Startfeld veranstaltet das Forum auch 2020 wieder zwei Mal in der Os
 tschweiz. Als Supportpartner sind Startup INVEST (vormals CTI Invest) und 
 dem Swiss ICT Investor Club (SICTIC)\, die beiden führenden Schweizer Fina
 nzierungsplattformen\, mit an Bord. Beim Investors Forum sind ausschliessl
 ich Start-ups und die Investoren anwesend. Danach besteht die Möglichkeit\
 , sich weiter auszutauschen und vertieft kennenzulernen.\nDie&nbsp\;Qualit
 ät der Start-ups&nbsp\;wird durch folgende Zulassungskriterien gewährleist
 et:\n\nIm CTI Start-up Coaching Prozess (Coaching Acceptance) oder\nInnosu
 isse Start-up Label oder\nStartfeld Förderpaket «INTENSIV» oder\nSwiss ICT
  Investor Club (SICTIC) – Startup\n\nDie Start-ups werden von Coaches der 
 Innosuisse-Schweizerische Agentur für Innovationsförderung und / oder Star
 tfeld begleitet und erhalten im Vorfeld des Investors Forum ein obligatori
 sches Pitch-Training durch Jean-Pierre Vuilleumier\, Managing Director Sta
 rtup&nbsp\; INVEST.\nDie&nbsp\;Investoren&nbsp\;werden persönlich eingelad
 en. Der angestrebte Mindestbetrag pro Investment beträgt CHF 50‘000.00.\nW
 eitere Informationen zur Veranstaltung sowie die Möglichkeit zur Anmeldung
  finden Sie auf der Website der Veranstalter... http://bomi40.eu/de/servic
 e-kompetenz/veranstaltungen/ort/event/1885-15-investors-forum-save-the-dat
 e
DTSTART;VALUE=DATE:20200219
LOCATION:Startfeld Innovationszentrum (Lerchenfeldstrasse 3\, 9014 St. Gall
 en\, Schweiz)
SUMMARY:15. Investors Forum: Save the Date
URL:http://bomi40.eu/de/service-kompetenz/veranstaltungen/ort/event/1885-15
 -investors-forum-save-the-date
END:VEVENT
END:VCALENDAR
