BEGIN:VCALENDAR
VERSION:2.0
PRODID:-//http://bomi40.eu///NONSGML kigkonsult.se iCalcreator 2.10.15//
METHOD:PUBLISH
BEGIN:VEVENT
UID:20260419T215819CEST-4665uWGurV@http://bomi40.eu/
DTSTAMP:20260419T195819Z
DESCRIPTION:Unternehmen können die Digitalisierung und Künstliche Intellige
 nz (KI) auf vielfältige Weise gewinnbringend einsetzen. Aber wie gelingt e
 in passgenauer Einsatz fürs eigene Unternehmen? Das Fraunhofer IAO bietet 
 im Rahmen der Open Lab Tour einen Überblick über unternehmensnahe Arbeiten
  und Forschungsprojekte zum Thema KI.\nWelche neuen Anwendungen sind für d
 as eigene Unternehmen relevant und wie können entsprechende Lösungen umges
 etzt werden? Die Open Lab Tour zielt darauf ab\, dass Teilnehmende diese F
 ragen für sich beantworten können. Im Rahmen einer Präsentation\, Diskussi
 on und verschiedenen Demonstrationen werden KI und neue Digitalisierungslö
 sungen greifbar.\nDie Themen im Überblick:\n\nVortrag: »Künstliche Intelli
 genz als Chance für neue Arbeitsweisen und Prozesse in Unternehmen«\nBeisp
 iele und Demonstrationen aus unserer Projektarbeit: - Digitale Assistenten
  und Chatbots - Texterkennung und Automatisierung in der Kundenkommunikati
 on - KI-gestützter Expertenarbeitsplatz - Smart Services und Products\, In
 ternet of Things - IT und KI für das E-Flottenmanagement\nFragen und Theme
 n aus dem Kreis der Teilnehmenden und Diskussion\nMöglichkeiten der Zusamm
 enarbeit mit Fraunhofer und dem Bereich Digital Business\nNetworking\n\nDi
 e Veranstaltung richtet sich an Führungskräfte\, Entscheider und Projektle
 itung. Die Teilnahme an der Veranstaltung ist kostenlos. Eine Anmeldung is
 t erforderlich.\nDatum und Uhrzeit: Donnerstag\, 07.05.2020 15.00 bis 17.3
 0 Uhr\nWeitere Informationen zu der Veranstaltung finden Sie auf der Websi
 te des Frauhofer IAO... http://bomi40.eu/de/service-kompetenz/veranstaltun
 gen/ort/event/1900-open-lab-tour-digital-business-und-kuenstliche-intellig
 enz
DTSTART;VALUE=DATE:20200507
LOCATION:  IAT Universität Stuttgart (Allmandring 35\, 70569 Stuttgart\, De
 utschland)
SUMMARY:Open Lab Tour: Digital Business und Künstliche Intelligenz
URL:http://bomi40.eu/de/service-kompetenz/veranstaltungen/ort/event/1900-op
 en-lab-tour-digital-business-und-kuenstliche-intelligenz
END:VEVENT
END:VCALENDAR
