BEGIN:VCALENDAR
VERSION:2.0
PRODID:-//http://bomi40.eu///NONSGML kigkonsult.se iCalcreator 2.10.15//
METHOD:PUBLISH
BEGIN:VEVENT
UID:20260419T203958CEST-4093ErgHrN@http://bomi40.eu/
DTSTAMP:20260419T183958Z
DESCRIPTION:Der HACK AND HARVEST geht in die zweite Runde. Am 15. und 16. M
 ai wird die farm wieder zum Hacking-Space. Ob Privatperson oder Unternehme
 nsgruppe: jeder kann mitmachen\, unabhängig von Skills und Vorwissen. In 2
 8 Stunden können in Teamarbeit Innovationen entstehen\, Lösungen für beste
 hende Probleme erarbeitet oder Prototypen entwickelt werden. Es wird Freir
 aum für eure Ideen geschaffen. Was ihr macht\, steht euch völlig offen. Es
  gibt keine Vorgabe\, nur eine kleine Besonderheit: Renommierte Experten u
 nd Unternehmer aus Wirtschaft und Wissenschaft bringen sich mit ihrer Erfa
 hrung und ihrem Know-how. Als Mentoren unterstützen sie euch bei eurem Vor
 haben\, wenn ihr das wollt. Außerdem haben wir wieder spannende Kurzworksh
 ops für euch im Angebot.\nDie Teilnahme am Hackathon ist kostenlos. Für Ve
 rpflegung an beiden Tagen ist natürlich gesorgt\, Räume zum Schlafen stehe
 n ebenfalls zur Verfügung (nur für den Liegekomfort muss jeder selbst sorg
 en).\nHACK AND HARVEST&nbsp\;ist eine gemeinsame Veranstaltung des digital
 en Kompetenznetzwerks&nbsp\;cyberLAGO&nbsp\;und der Konstanzer Initiative&
 nbsp\;Unternehmer für Gründer.&nbsp\;Die Veranstaltung ist Teil des Projek
 ts „BodenseeMittelstand 4.0“\,&nbsp\;bei dem es darum geht\, die KMU rund 
 um den Bodensee bei der digitalen Transformation zu begleiten. Das Projekt
  „ABH051 BodenseeMittelstand 4.0“ wird aus Mitteln des Programms Interreg 
 V „Alpenrhein-Bodensee-Hochrhein“\, dessen Mittel vom Europäischen Fonds f
 ür regionale Entwicklung (EFRE) und vom Schweizer Bund zur Verfügung geste
 llt werden\, gefördert.\nWeitere Informationen zur Veranstaltung sowie die
  Möglichkeit zur Anmeldung findet Ihr hier. http://bomi40.eu/de/service-ko
 mpetenz/veranstaltungen/ort/event/1911-hack-and-harvest-2020
DTSTART:20200515T070000Z
DTEND:20200516T160000Z
LOCATION:farm - Konstanzer Innovationsareal (Bücklestraße 3\, 78467 Konstan
 z\, Deutschland)
SUMMARY:HACK AND HARVEST 2020
URL:http://bomi40.eu/de/service-kompetenz/veranstaltungen/ort/event/1911-ha
 ck-and-harvest-2020
END:VEVENT
END:VCALENDAR
