BEGIN:VCALENDAR
VERSION:2.0
PRODID:-//http://bomi40.eu///NONSGML kigkonsult.se iCalcreator 2.10.15//
METHOD:PUBLISH
BEGIN:VEVENT
UID:20260419T194103CEST-9317vo0NrJ@http://bomi40.eu/
DTSTAMP:20260419T174103Z
DESCRIPTION:Digitale Geschäftsmodelle für Produktion und Service entwickeln
 \nDie digitale Transformation ist mit entscheidend über die Zukunftsfähigk
 eit von Unternehmen. Dies bedeutet für die Industrie\, digitale EndtoEnd-P
 rozesse zu schaffen und innovative digitale Wertangebote zu gestalten. Es 
 zeigt sich\, dass die Bedeutung der Digitalisierung und die damit verbunde
 n Transformationshandlungen für Unternehmen sehr unterschiedlich sein könn
 en. Mit Ansätzen und Vorgehensweisen\, die differenziert auf die jeweilige
 n Unternehmensbedarfe und -potenziale blicken\, lässt sich die Komplexität
  der digitalen Transformation reduzieren und handhaben. In diesem Workshop
  lernen Sie die Grundlagen digitaler Konzepte kennen. Sie erfahren\, welch
 e digitalen Technologien es gibt und Sie sehen praktische Beispiele für di
 e gelungene Umsetzung. Sie erhalten Ideen und Anregungen\, wie Sie Ihre ei
 genen Produkte und Produktionsprozesse digitalisieren können. Die Vorstell
 ung von Vorgehensweisen und Werkzeugen zur Gestaltung digitaler und dateng
 etriebener Geschäftsmodelle runden den Tag ab.\nSeminarinhalt auf einen Bl
 ick\nTheoretische Grundlagen\n\nDie wichtigsten Begriffe und was sie bedeu
 ten (z.B. Smart Factory\, Cyber-Physical-System)\nÜberblick über digitale 
 Technologien und Konzepte wie Connectivity\, Digitaler Zwilling\, OPC UA\,
  Industrial Internet of Things (IIoT)\, digitale Arbeitswelten etc.\nWie d
 ie digitale Transformation funktioniert und gelingt\, inklusive der damit 
 verbundenen digitalen Geschäftsmodelle\nUnterschiedliche Praxisbeispiele z
 u digitalen Prozess- und Geschäftsmodellinnovationen\nDigitaler Autonomieg
 rad zur systematischen Ableitung von Normstrategien sowie Handlungs- und U
 msetzungsempfehlungen\n\nHinweis: Dieses Seminar ist gleichzeitig das Modu
 l 3 der Ausbildung „Lean DIGITAL Manager“ mit Zertifikatsabschluss\nIhr Nu
 tzen\n\nSie ekennen die Chancen und Möglichkeiten der Digitalisierung\, so
 wohl technisch als auch wirtschaftlich\nSie erkennen\, wie groß der Bedarf
  für digitale Transformation in Ihrem Unternehmen ist\nSie kennen erfolgre
 iche Praxisbeispiele\nSie verstehen den Ansatz des Digitalen Autonomiegrad
 es und kennen weitere Möglichkeiten der strukturierten Herangehensweisen a
 n das Thema Digitalisierung\nIhr strategischer Fokus ist erweitert: Sie wi
 ssen\, dass Digitalisierung eine strategische Aufgabe des Managements ist
 \n\nZielgruppen Geschäftsführer\, Produktions-/Fertigungsleiter\, Vertrieb
 sleiter\, Ingenieure\, Produktmanager\, Mechatroniker\, Entwickler\, Abtei
 lungsleiter\, Techniker\, Berater\, Planungsingenieure\, Systemingenieure 
 und Konstrukteure.\nSeminarprogramm\n\nEinführung in die Digitalisierung u
 nd deren Konzepte (wie z.B. Smart Factory\, Cyber-Physical-Productions-Sys
 tems)\nWesentliche digitale Technologien\nAufbau digitaler Geschäftsmodell
 e\nVerschiedene Beispiele für erfolgreiche digitale Prozesse und Lösungen 
 in der Produktion und Service\nPotenzielle Digitalisierungsansätze in Ihre
 m Unternehmen herausarbeiten\n\nWeitere Informationen zur Veranstaltung so
 wie die Möglichkeit zur Anmeldung finden Sie auf der Website der Veranstal
 ter... http://bomi40.eu/de/service-kompetenz/veranstaltungen/ort/event/191
 7-digitalisierung-in-der-industrie-chancen-erkennen-und-nutzen
DTSTART;VALUE=DATE:20200320
LOCATION:VDI-Haus Stuttgart (Hamletstraße 11\, 70563 Stuttgart\, Deutschlan
 d)
SUMMARY:Digitalisierung in der Industrie: Chancen erkennen und nutzen
URL:http://bomi40.eu/de/service-kompetenz/veranstaltungen/ort/event/1917-di
 gitalisierung-in-der-industrie-chancen-erkennen-und-nutzen
END:VEVENT
END:VCALENDAR
