BEGIN:VCALENDAR
VERSION:2.0
PRODID:-//http://bomi40.eu///NONSGML kigkonsult.se iCalcreator 2.10.15//
METHOD:PUBLISH
BEGIN:VEVENT
UID:20260419T205332CEST-8854aVnNfs@http://bomi40.eu/
DTSTAMP:20260419T185332Z
DESCRIPTION:Nach Einschätzung der Risikobewertung für Veranstaltungen auf B
 asis der Empfehlungen des Robert-Koch Instituts muss die Veranstaltung lei
 der absagt werden!\nKünstliche Intelligenz (KI) ist eines der wichtigsten 
 Zukunftsthemen für Wirtschaft und Gesellschaft. Unternehmen fragen sich\, 
 für welche Prozesse der Einsatz von Digitalisierung und KI sinnvoll und so
 gar wettbewerbsnotwendig ist. Denn trotz massiven Produktivitätspotenziale
 n bringt die Einführung neuer KI-Lösungen nach wie vor erhebliche technisc
 h-organisatorische Aufwände mit sich. Auch die Frage der Akzeptanz von KI-
 Systemen für Kunden und Mitarbeitende ist für viele Betriebe bislang ungel
 öst. Letztlich brauchen die Unternehmen KI-Anwendungen\, welche einerseits
  die Arbeitsproduktivität steigern\, und andererseits nicht zu einem Vertr
 auensverlust bei den Kunden und Mitarbeitenden führen.\nDer Unternehmensdi
 alog »Produktiv arbeiten mit Digitalisierung und KI« zeigt die neuen Mögli
 chkeiten von Digitalisierung und Künstlicher Intelligenz in Produktion und
  Sacharbeit auf. Er stellt praxiserprobte Lösungen vor\, macht diese live 
 erlebbar und dient als Plattform zum Austausch von praktischen Erfahrungen
  der digitalen Transformation.\nIn verschiedenen interaktiven Formaten kön
 nen sich die Teilnehmerinnen und Teilnehmer über Potenziale\, Umsetzungsko
 nzepte und praktische Lösungen von Digitalisierung und KI für produktives 
 Arbeiten austauschen.\nDie Veranstaltung auf einen Blick\n\nVorträge über 
 den Einsatz von Digitalisierung und KI für produktives Arbeiten in Unterne
 hmen\nInteraktive Workshops zu KI in Produktion\, Sachbearbeitung und Dien
 stleistungen\nPersönliches Erleben aktueller KI- und Digitalisierungslösun
 gen in den Laboren des Fraunhofer IAO\nErfahrungsaustausch und Networking 
 zwischen Unternehmen\, Transferakteuren und Forschung\n\nAm Nachmittag fin
 den folgende Workshops statt\n\nSachbearbeitung produktiv und menschengere
 cht – KI\, Prozesse und Arbeit integriert gestalten\nHow to KI – Wie produ
 zierende Unternehmen KI-Projekte erfolgreich starten\nDienstleistungen ver
 bessern – Welche Potenziale bietet KI für Dienstleistungen\n\nWeitere Info
 rmationen finden Sie auf der Website des Fraunhofer IAO... http://bomi40.e
 u/de/service-kompetenz/veranstaltungen/ort/event/1920-abgesagt-produktiv-a
 rbeiten-mit-digitalisierung-und-ki
DTSTART;VALUE=DATE:20200402
LOCATION:Fraunhofer Institutszentrum Stuttgart (Nobelstraße 12\, 70569 Stut
 tgart)
SUMMARY:ABGESAGT! Produktiv arbeiten mit Digitalisierung und KI
URL:http://bomi40.eu/de/service-kompetenz/veranstaltungen/ort/event/1920-ab
 gesagt-produktiv-arbeiten-mit-digitalisierung-und-ki
END:VEVENT
END:VCALENDAR
