BEGIN:VCALENDAR
VERSION:2.0
PRODID:-//http://bomi40.eu///NONSGML kigkonsult.se iCalcreator 2.10.15//
METHOD:PUBLISH
BEGIN:VEVENT
UID:20260419T194211CEST-0775EETihI@http://bomi40.eu/
DTSTAMP:20260419T174211Z
DESCRIPTION:Generieren Sie aus der Kundenperspektive kreative Lösungen um I
 ndustrie 4.0-Szenarien neu zu denken\nDie agile Transformation der Wirtsch
 aft und insbesondere der Industrie ist in vollem Gange. In zahlreichen Fir
 men ist es notwendig geworden\, konkrete Antworten auf die neue VUCA-Welt 
 (Volatile\, Uncertain\, Complex\, Ambiguous) zu finden. Die gestiegenen Er
 wartungen der Kunden/Nutzer sowie der starke globale Wettbewerb zwingen zu
 m Überdenken der Lösungs- sowie Produktentstehungsprozesse.Im Fokus des Se
 minars stehen drei Fragen\, – die inzwischen berühmten Why/What/How – in d
 ieser Reihenfolge: Warum wenden wir die Methode Design Thinking genau so a
 n? Was müssen wir machen um beste Ergebnisse zu erzielen? Wie können wir d
 ie Methode maximal effizient anwenden?Das Seminar verfolgt zwei Ziele: Ers
 tens\, Design Thinking als praxisorientierte Methode richtig zu verinnerli
 chen. Zweitens\, durch Gruppenübungen und durch den Austausch mit anderen 
 Teilnehmern und dem Trainer\, sammeln Sie praktische Erfahrungen für die U
 msetzung in Ihrem Unternehmen.\nSeminarinhalt auf einen Blick\n\nWas ist D
 esign Thinking und wofür nutzen wir diese Methode?\nDer Design Thinking (M
 ikro)Zyklus: Problemdefinition und Re-Definition – Need finding (Nutzen) u
 nd Synthese – Ideen finden – Prototyp erstellen – Testen\nErfolgsfaktoren 
 in Design Thinking\nPraxistaugliche Tools für Design Thinking\nErfahrungsb
 erichte und Beispiele aus der Industrie\n\nIhr Nutzen\n\nUmsetzungserfolg 
 in der Praxis basierend auf langjähriger Erfahrung des Trainers mit agilen
  Methoden – Design Thinking als auch Scrum.\nDie Methode wird im Seminar m
 it konkreten Beispielen untermauert und mit Diskussionen innerhalb der Gru
 ppenübungen lebhaft veranschaulicht.\nSämtliche Begriffe der Methode – die
  mehrheitlich aus dem Englischen stammen – werden analysiert und verständl
 ich gemacht. Es werden gezielt auch Anti-Patterns (häufige Fehler) aktiv g
 ezeigt!\nNach dem Training können Sie die Design Thinking-Methode aktiv an
 wenden um neue Produkte zu konzipieren. Im Anschluss können die Resultate 
 als Ausgangslage für die Erstellung eines Product Backlogs für weitere Pro
 jektabarbeitung mit Scrum verwendet werden.\nZahlreiche Methoden für ein t
 ieferes Verständnis der Nutzerbedürfnisse helfen Ihnen\, den Innovationspr
 ozess zielgerichtet zu steuern und sinnvolle Lösungen zu erarbeiten.\n\nZi
 elgruppen sind Produktmanager\, Projektleiter\, Innovationsmanager\, Scrum
  Product Owners\, Teilprojektleiter sowie Mitarbeiter in Projekten mit sta
 rke Produktentwicklungsfokus welche eine innovative Methode erlernen und a
 usprobieren wollen.\nDas Seminar ist kostenpflichtig\, eine Anmeldung ist 
 erforderlich. Die Veranstaltung findet von 09.00 Uhr bis 17.00 Uhr statt.
 \nWeitere Informationen zu dem Seminar finden Sie auf der Website des Fort
 bildungszentrums VDI... http://bomi40.eu/de/service-kompetenz/veranstaltun
 gen/ort/event/1924-design-thinking-innovationen-schaffen-komplexe-probleme
 -kreativ-loesen
DTSTART;VALUE=DATE:20200513
LOCATION:VDI-Haus Stuttgart (Hamletstraße 11\, 70563 Stuttgart\, Deutschlan
 d)
SUMMARY:Design Thinking: Innovationen schaffen – Komplexe Probleme kreativ 
 lösen
URL:http://bomi40.eu/de/service-kompetenz/veranstaltungen/ort/event/1924-de
 sign-thinking-innovationen-schaffen-komplexe-probleme-kreativ-loesen
END:VEVENT
END:VCALENDAR
