BEGIN:VCALENDAR
VERSION:2.0
PRODID:-//http://bomi40.eu///NONSGML kigkonsult.se iCalcreator 2.10.15//
METHOD:PUBLISH
BEGIN:VEVENT
UID:20260419T193438CEST-2113rM8Z2z@http://bomi40.eu/
DTSTAMP:20260419T173438Z
DESCRIPTION:Potenziale der Digitalisierung und relevante Kompetenzen zur er
 folgreichen Umsetzung\nDie Digitale Transformation und das „Internet der D
 inge“ sind weit mehr als nur eine technische Herausforderung. Sie veränder
 n alle Bereiche\, sowohl beruflich als auch privat. Die Arbeitsteilung zwi
 schen Mensch und Technik muss neu definiert werden. Dafür brauchen wir neu
 e Kompetenzen und Fähigkeiten.Die „Digitalisierung“ bietet viele Vorteile 
 im Hinblick auf Flexibilität und Produktivität. Wer diese voll ausschöpfen
  will\, muss seine Personal- und Kompetenzentwicklung entsprechend anpasse
 n.\nIm Seminar erfahren Sie anhand von Praxisfällen\, welche Chancen Ihnen
  die „Digitalisierung“ bietet und wie Ihr Unternehmen auch künftig wettbew
 erbsfähig bleibt. Erhalten Sie zahlreiche Tipps und Tools aus der Praxis. 
 Werden Sie fit für die Digitale Transformation!\nSeminarinhalt auf einen B
 lick\n\nTrends\, Technologien\, Potenziale der „Digitalisierung“\nAuswirku
 ngen auf private sowie berufliche Bereiche\, Branchen\, Unternehmen\, Proz
 esse\nChancen der „Digitalisierung“ für Ihr Unternehmen\nIdealbild des dig
 italen vernetzten Unternehmens\nStrategisches und operatives Digital-Kompe
 tenzmanagement\nHandlungsfelder und Stufen der „Digitalisierung“\nWichtige
  Kompetenzfelder für das digitale Zeitalter\nRoadmap: Methoden\, Schritte\
 , Risiken\n\nHinweis: Dieses Seminar ist gleichzeitig das Modul 1 der „Aus
 bildung ManagerIN Digitale Transformation mit VDI-Zertifikat“\nIhr Nutzen
 \n\nSie kennen nach dem Seminar die wichtigsten Szenarien der Digitalisier
 ung\, der digitalen Zukunft und von Industrie 4.0\nSie lernen die Vorteile
  und Chancen der Digitalisierung für Ihr Unternehmen kennen\, etwa in Form
  von Automation sowie interner und externer Vernetzung\nEntwickeln Sie die
  Digitalkompetenz Ihres Unternehmens und eignen Sie sich gleichzeitig pers
 önlich digitale Kompetenzen an\nEntwerfen Sie Ihre Roadmap methodisch unte
 r Berücksichtigung der Risiken\n\nZielgruppen\n\nMitarbeiterinnen und Mita
 rbeiter aus der Geschäftsführung\nFach- und Führungskräfte\, die erfahren 
 möchten\, wie und mit welchen Kompetenzen sie sich und ihr Unternehmen auf
  die digitale Zukunft vorbereiten können.\nFührungskräfte aus den Bereiche
 n Business Development\, Entwicklung\, Marketing\, Produktion\, Beschaffun
 g /Sourcing\, HR\, Produktmanagement\n\nSeminarprogramm\n\nDie digitale Zu
 kunft\nDas digital vernetzte Unternehmen\nDer digitale Wandel – Ziele und 
 Inhalte\nMaßnahmen zur Digitalisierung\nDie digitale Roadmap\n\nIhr Refere
 nt Prof. Dr. Claus W. Gerberich\, Geschäftsführender Gesellschafter Gerber
 ich Maschinenfabrik ist Management-Experte mit langjähriger Praxiserfahrun
 g als Vorstand bzw. Geschäftsführer internationaler Unternehmen. Er war un
 ter anderem für die adidas AG\, die Schöller Mövenpick GmbH\, die Staff Zu
 mtobel AG und die BASF AG tätig. Professor Gerberich ist zudem Mitglied de
 s EWIF\, der europäischen Vereinigung mittelständischer Unternehmen. Darüb
 er hinaus ist er Aufsichtsrat verschiedener mittelständischer internationa
 ler Unternehmen. Er hat mehr als 20 Bücher und über 50 Publikationen verfa
 sst. Sein aktuelles Buch „Wachstum durch innovative Geschäftsmodelle“\, pa
 ssend zum Seminar\, erscheint im Herbst 2019. Es enthält mehrere Best Prac
 tice Beispiele und eine Roadmap der Digitalisierung.\nDas Seminar ist kost
 enpflichtig\, eine Anmeldung ist notwendig.\nWeitere Informationen zu dem 
 Seminar und zu der Anmeldung finden Sie auf der Website des Fortbildungsze
 ntrums VDI... http://bomi40.eu/de/service-kompetenz/veranstaltungen/ort/ev
 ent/1926-fit-fuer-die-digitale-transformation
DTSTART;VALUE=DATE:20200511
LOCATION:VDI-Haus Stuttgart (Hamletstraße 11\, 70563 Stuttgart\, Deutschlan
 d)
SUMMARY:Fit für die Digitale Transformation
URL:http://bomi40.eu/de/service-kompetenz/veranstaltungen/ort/event/1926-fi
 t-fuer-die-digitale-transformation
END:VEVENT
END:VCALENDAR
