BEGIN:VCALENDAR
VERSION:2.0
PRODID:-//http://bomi40.eu///NONSGML kigkonsult.se iCalcreator 2.10.15//
METHOD:PUBLISH
BEGIN:VEVENT
UID:20260419T191018CEST-4547jr4Uuk@http://bomi40.eu/
DTSTAMP:20260419T171018Z
DESCRIPTION:Die Einführung des digitalen Arbeitsplatzes im Unternehmen ist 
 die Basis der eigenen Digitalen Transformation und eine Veränderung der Ar
 beitskultur. Gemeinsam tauchen Sie bei den Impuls Veranstaltungen in die H
 erausforderungen und Chancen des digitalen Arbeitsplatzes ein und legen st
 ets das Augenmerk darauf\, das Ganze zu sehen.\nEin digitaler Arbeitsplatz
  mit Microsoft Teams?\nMicrosoft Teams ist der zentrale Ort für moderne Zu
 sammenarbeit. Was bedeutet mobiles\, smartes und produktives Arbeiten in d
 iesem Kontext?\nInhalte und die Chatverläufe in Team- oder Privatchats kön
 nen jederzeit angeschaut werden und kleine Gruppen- oder Teamsitzungen kön
 nen geplant werden. Außerdem können Sie Ihre eigenen Meetings mit Freigabe
 n\, Video- und Audiokonferenzen durchführen und optimieren.\nIm Rahmen die
 ses Impuls Vortrags können Ihre Fragen diskutiert und Ideen erarbeitet wer
 den. Sebastian Eberle und Alexander Fetscher ermöglichen Ihnen exklusive E
 inblicke in reelle Team-Szenarien und -Lösungen.\nSämtliche Unterhaltungen
 \, Dateien und Tools können in einem Team-Arbeitsbereich verwaltet werden 
 und direkt bearbeitet werden. Außerdem kann man jederzeit sein Team mit de
 r E-Mail-Schnittstelle auf dem Laufenden halten.\nKommen Sie zum kostenlos
 en Impuls Vortrag!\nNach den kompakten Impuls Vorträgen bleibt genug Zeit 
 für Fragen und einen regen Austausch untereinander.\nDie Veranstaltung ist
  kostenlos\, für Snacks und Getränke ist gesorgt. Eine Anmeldung ist notwe
 ndig.\nWeitere Informationen zu der Veranstaltung und zur Anmeldung finden
  Sie auf der Website von adlon... http://bomi40.eu/de/service-kompetenz/ve
 ranstaltungen/ort/event/1928-digital-workplace-impuls-vortrag-microsoft-te
 ams
DTSTART;VALUE=DATE:20200421
LOCATION:ADLON Intelligent Solutions GmbH (Albersfelder Str. 30\, 88213 Rav
 ensburg\, Deutschland)
SUMMARY:Digital Workplace Impuls Vortrag: Microsoft Teams
URL:http://bomi40.eu/de/service-kompetenz/veranstaltungen/ort/event/1928-di
 gital-workplace-impuls-vortrag-microsoft-teams
END:VEVENT
END:VCALENDAR
