BEGIN:VCALENDAR
VERSION:2.0
PRODID:-//http://bomi40.eu///NONSGML kigkonsult.se iCalcreator 2.10.15//
METHOD:PUBLISH
BEGIN:VEVENT
UID:20260419T191123CEST-6819VlFi4T@http://bomi40.eu/
DTSTAMP:20260419T171123Z
DESCRIPTION:Die Massnahmen zur Eindämmung der Coronavirus-Pandemie betreffe
 n auch die Premiere der «east#digital conference»\, die am 3. Juni 2020 im
  Startfeld in St.Gallen über die Bühne gegangen wäre. Der Event findet nun
  am 23. September 2020 statt. Der Ticketverkauf startet im April.&nbsp\;\n
 An der 1.east#digital conference gehen die Referenten von 10 bis 17 Uhr im
  Startfeld St.Gallen den Leitfragen der Tagung praxisnah nach: Wie verände
 rt die Digitalisierung unser Weltbild? Wie beeinflusst sie unseren Alltag?
  Wie unser Arbeitsleben? Und wie mein Geschäft? Neben Referaten\, einem Ta
 lk und Präsentationen bietet die east#digital.conference mit Workshops vie
 l Potenzial\, eigene Fragen vertieft zu diskutieren.\n\nVorläufiges Progra
 mm:\nab 09.15 Uhr Eintreffen/Kaffee\n10.00 Uhr Impulsreferat\n10.40 Uhr Wo
 rkshop-Runde 1\n11.30 Uhr Workshop-Runde 2\n12.20 Uhr Mittagspause\n13.40 
 Uhr StartUps by STARTFELD\n14.50 Uhr Impulsreferat Anja Graf+Fragen\n15.20
  Uhr Pause\n15.50 Uhr Impulsreferat Dr. Maren Urner\n16.20 Uhr Talk/Interv
 iew Thema 'Medienkompetenz/ Medienumgang'\n17.00 Uhr Roland Siegthaler/ ec
 ht praktisch\n17.15 Uhr Abschluss & Networking\nWeitere Informationen zu d
 er Veranstaltung finden Sie auf der Website east#digital.ch.\n&nbsp\; http
 ://bomi40.eu/de/service-kompetenz/veranstaltungen/ort/event/1930-east-digi
 tal-conference
DTSTART;VALUE=DATE:20200923
LOCATION:Startfeld Innovationszentrum (Lerchenfeldstrasse 3\, 9014 St. Gall
 en\, Schweiz)
SUMMARY:east#digital conference
URL:http://bomi40.eu/de/service-kompetenz/veranstaltungen/ort/event/1930-ea
 st-digital-conference
END:VEVENT
END:VCALENDAR
