BEGIN:VCALENDAR
VERSION:2.0
PRODID:-//http://bomi40.eu///NONSGML kigkonsult.se iCalcreator 2.10.15//
METHOD:PUBLISH
BEGIN:VEVENT
UID:20260419T191001CEST-6994KOzssw@http://bomi40.eu/
DTSTAMP:20260419T171001Z
DESCRIPTION:Der Hightech-Gründerfonds ist seit 2005 ein starker Motor für e
 rfolgreiche High-Tech-Gründer. Mit Know-how\, Entrepreneurial-Spirit und L
 eidenschaft begleitet das erfahrene Team aus Investment-Managern und Start
 up-Experten die besten Unternehmen auf ihrem Weg von der Gründung bis zum 
 Erfolg. Dabei liegt der Fokus auf Startups mit Growth-Potential aus den Br
 anchen Software\, Medien\, Internet\, Hardware\, Energie und Automation\, 
 Life Sciences (Medizintechnologie\, Diagnostics\, Biotechnologie) und Chem
 ie. Mit einem Volumen von 895\,5 Mio. Euro verteilt auf drei Fonds (272 Mi
 o Euro Fonds I\, 304 Mio. Euro Fonds II\, Ziel: 316\,5 Mio. Euro Fonds III
 ) sowie einem internationalen Partner-Netzwerk hat der HTGF bereits 542 St
 artups finanziert.\nDarunter Erfolgsgeschichten wie&nbsp\; Mister Spex\, R
 igontec\, 6Wunderkinder\, die Next Kraftwerke\, Cumulocity oder der Online
 -Shop für Kunstfans\, Juniqe. Mehr als 1\,5 Milliarden Euro Kapital invest
 ierten externe Investoren bislang in über 1.200 Folgefinanzierungsrunden i
 n das HTGF-Portfolio. Außerdem hat der Fonds Anteile an mehr als 90 Untern
 ehmen erfolgreich verkauft. Zu den Investoren der Public-Private-Partnersh
 ip zählen das Bundesministerium für Wirtschaft und Energie\, die KfW\, die
  Fraunhofer-Gesellschaft sowie die Wirtschaftsunternehmen ALTANA\, BASF\, 
 Bayer\, Boehringer Ingelheim\, B.Braun\, Robert Bosch\, BÜFA\, CEWE\, Deut
 sche Post DHL\, Dräger\, Drillisch AG\, EVONIK\, EWE AG\, Haniel\, Hettich
 \, Knauf\, Körber\, LANXESS\, media + more venture BeteiligungsGmbH & Co. 
 KG\, PHOENIX CONTACT\, Postbank\, QIAGEN\, RWE Generation SE\, SAP\, Schuf
 a\, Schwarz Gruppe\, STIHL\, Thüga\, Vector Informatik\, WACKER\, Wilh. We
 rhahn KG\, FOND OF.\nDie HTGF-Sprechtage\nUm mit dem High-Tech Gründerfond
 s ins Gespräch zu kommen\, bietet bwcon in Zusammenarbeit mit regionalen P
 artnern in regelmäßigen Abständen HTGF-Sprechtage an. Dabei stehen Investm
 entmanager des HTGF Gründerteams für persönliche Beratungsgespräche zur Ve
 rfügung. Ziel ist es Geschäftsmodelle und Gründungsprojekte zu bewerten un
 d auf ihre Eignung für eine Finanzierung durch den HTGF zu prüfen\, den Un
 terstützungsbedarf zu identifizieren und ggf. mit den Interessenten die we
 iteren Schritte zu planen.\nDie Sprechtage dienen der Vorbereitung auf ein
 e Finanzierung durch den HTGF: Viele der Beratungen\, die bwcon mit den re
 gionalen Partnern durchführt\, führen zu einer Förderung durch den HTGF. D
 ie Arbeit mit einem akkreditierten HTGF-Coach von bwcon im Rahmen des Bete
 iligungsprozess\, erhöht die Wahrscheinlichkeit für ein Investment durch d
 en HTGF um das 5-fache.\nVeranstalter der Sprechtage ist bwcon GmbH – Tech
 nologie und Innovation für Baden-Württemberg (bwcon) in Zusammenarbeit mit
  regionalen Partnern.\nZielgruppe\nZielgruppe sind Gründer- und Forscherte
 ams in der Vorgründungsphase. Diese sollen für die Finanzierungsalternativ
 e HTGF sensibilisiert werden. Hier kann mit der Sprechstunde der Entwicklu
 ngsbedarf bis zur „Finanzierungsreife“ identifiziert werden. Außerdem spri
 cht der Sprechtag Gründerteams an\, die nach einer Seedfinanzierung suchen
 .\nZur Vorbereitung auf den Sprechstundentermin bietet bwcon eine vorberei
 tende Beratung für Gründer an\, die ebenfalls kostenfrei ist. Hier kann di
 e Geschäftsidee diskutiert werden\, alternative Finanzierungsmöglichkeiten
  aufgezeigt und die Möglichkeiten eines begleitenden Coachings besprochen 
 werden.\nWeitere Informationen zur Veranstaltung sowie die Möglichkeit zur
  Anmeldung finden Sie hier. http://bomi40.eu/de/service-kompetenz/veransta
 ltungen/ort/event/1933-htgf-sprechtag
DTSTART:20200407T080000Z
DTEND:20200407T150000Z
LOCATION:Stuttgart bwcon (Seyfferstraße 34\, 70197 Stuttgart\, Deutschland)
SUMMARY:HTGF-Sprechtag
URL:http://bomi40.eu/de/service-kompetenz/veranstaltungen/ort/event/1933-ht
 gf-sprechtag
END:VEVENT
END:VCALENDAR
