BEGIN:VCALENDAR
VERSION:2.0
PRODID:-//http://bomi40.eu///NONSGML kigkonsult.se iCalcreator 2.10.15//
METHOD:PUBLISH
BEGIN:VEVENT
UID:20260419T215848CEST-0422W5FwCp@http://bomi40.eu/
DTSTAMP:20260419T195848Z
DESCRIPTION:Die Veränderungen durch Corona treffen viele Unternehmen derzei
 t schwer und stellt sie vor neue Herausforderungen: Arbeitsstrukturen müss
 en angepasst\, Prozesse verändert und Abläufe umgestellt werden – und das 
 möglichst schnell. Doch häufig fehlt das methodische Wissen\, wie dieses C
 hange Management gelingt. Wie kann ich mithilfe einer Prozesslandkarte Tra
 nsparenz über meine Arbeitsabläufe schaffen und diese bewerten? Wie sieht 
 meine derzeitige Wertschöpfung aus und wie kann sie zukünftig aussehen? Un
 d wie erkenne ich Potentiale für die Digitalisierung von Prozessen für die
  Zukunft? Darum geht es beim dritten digitalen cyberTREFF.\nDer Experte:&n
 bsp\;Florian Kurz unterstützt mit seinem Team der&nbsp\;bamero AG&nbsp\;di
 verse namhafte Kunden in allen Branchen von der Prozesserhebung\, über die
  -modellierung und -optimierung\, bis hin zur Digitalisierung von Workflow
 s.\nAblauf:&nbsp\;\n16:00 Uhr: Begrüßung und kurze technische Hinweise16:1
 0 Uhr: Vortrag von Florian Kurz: Prozessbasiertes Krisenmanagement: Wie si
 chere ich die Wertschöpfung meines Unternehmens?16:40 Uhr: Möglichkeit zum
  Austausch\nDie Veranstaltung ist Teil des Projekts „BodenseeMittelstand 4
 .0“\,&nbsp\;bei dem es darum geht\, die KMU rund um den Bodensee bei der d
 igitalen Transformation zu begleiten. Das Projekt „ABH051 BodenseeMittelst
 and 4.0“ wird aus Mitteln des Programms Interreg V „Alpenrhein-Bodensee-Ho
 chrhein“\, dessen Mittel vom Europäischen Fonds für regionale Entwicklung 
 (EFRE) und vom Schweizer Bund zur Verfügung gestellt werden\, gefördert.\n
 Technische Info:\nDie Anmeldung erfolgt wie gewohnt über das Anmeldeformul
 ar\, das über den Anmeldebutton erreicht wird. Alle angemeldeten Teilnehme
 r erhalten an die jeweils angegebene E-Mail-Adresse zunächst eine automati
 sche Anmeldebestätigung sowie am Tag der Veranstaltung eine Einladung mit 
 einem Link zum digitalen cyberTREFF. Für die Teilnahme ist ein Computer\, 
 Tablet oder Smartphone mit Internetverbindung und Ton (Lautsprecher)\, Kam
 era und Mikrofon notwendig. Je nach Endgerät ist der Download einer App no
 twendig. Zu diesem gelangt man automatisch beim Klick auf den Link in der 
 Einladungsmail.\nDie Veranstaltung ist kostenlos\, eine Anmeldung&nbsp\;bi
 s 15 Uhr des Veranstaltungstags&nbsp\;erforderlich.\nWeitere Informationen
  zur Veranstaltung sowie die Möglichkeit zur Anmeldung finden Sie auf der 
 Website der Veranstalter... http://bomi40.eu/de/service-kompetenz/veransta
 ltungen/ort/event/1937-cybertreff-digital-prozessbasiertes-krisenmanagemen
 t-wie-sichere-ich-die-wertschoepfung-meines-unternehmens
DTSTART:20200401T140000Z
DTEND:20200401T153000Z
LOCATION:von Zuhause ()
SUMMARY: cyberTREFF digital: „Prozessbasiertes Krisenmanagement: Wie sicher
 e ich die Wertschöpfung meines Unternehmens?“
URL:http://bomi40.eu/de/service-kompetenz/veranstaltungen/ort/event/1937-cy
 bertreff-digital-prozessbasiertes-krisenmanagement-wie-sichere-ich-die-wer
 tschoepfung-meines-unternehmens
END:VEVENT
END:VCALENDAR
