BEGIN:VCALENDAR
VERSION:2.0
PRODID:-//http://bomi40.eu///NONSGML kigkonsult.se iCalcreator 2.10.15//
METHOD:PUBLISH
BEGIN:VEVENT
UID:20260419T191226CEST-2205rv8eov@http://bomi40.eu/
DTSTAMP:20260419T171226Z
DESCRIPTION:\n\nDer Investor Summit Liechtenstein vernetzt Start-ups und KM
 U auf Kapitalsuche mit hochkarätigen Investoren und Entscheidungsträgern. 
 Im Zentrum der Veranstaltung stehen die Unternehmenspräsentationen.\nDie n
 ächste Ausgabe am 25. November 2020 bietet zwei Top-Speaker: Der bekannte 
 Investor Carsten Maschmeyer\, Geschäftsführer der Maschmeyer Group und Men
 tor in der TV-Sendung „Höhle der Löwen“\, und S.D. Prinz Max von und zu Li
 echtenstein\, CEO der LGT Group\, geben exklusive Einblicke in ihre Invest
 menttätigkeit. Es werden noch einige weitere Referenten Vorträge halten.\n
 Im Zentrum der Veranstaltung stehen die Live-Pitches ausgewählter Startups
  und Wachstumsfirmen auf der Hauptbühne. Die Teilnehmerinnen und Teilnehme
 r erhalten so die einzigartige Möglichkeit\, im Rahmen der Veranstaltung i
 nnovative Ideen und neue Geschäftsmodelle kennenzulernen. Die Tagung wird 
 umrahmt von Diskussionsrunden\, Workshops und Networking-Möglichkeiten.\nD
 er Ticketpreis beträgt 290 Franken.Weitere Informationen zur Ticket-Bestel
 lung sowie zur Veranstaltung selbst finden Sie unter investorsummit.li.\n
 \n http://bomi40.eu/de/service-kompetenz/veranstaltungen/ort/event/1950-in
 vestor-summit-2020
DTSTART:20201125T123000Z
DTEND:20201125T163000Z
LOCATION:Sal am Lindenplatz (Landstrasse 19\, 9494 Schaan\, Liechtenstein)
SUMMARY:Investor Summit 2020
URL:http://bomi40.eu/de/service-kompetenz/veranstaltungen/ort/event/1950-in
 vestor-summit-2020
END:VEVENT
END:VCALENDAR
