BEGIN:VCALENDAR
VERSION:2.0
PRODID:-//http://bomi40.eu///NONSGML kigkonsult.se iCalcreator 2.10.15//
METHOD:PUBLISH
BEGIN:VEVENT
UID:20260419T191011CEST-371270HHjH@http://bomi40.eu/
DTSTAMP:20260419T171011Z
DESCRIPTION:Das Webinar findet im Rahmen der Webinarreihe 'Robotic & Automa
 tion Wednesday' statt. In dieser Webinar-Reihe erklären die Experten der I
 nstitute KIT\, FZI\, Fraunhofer IOSB und Fraunhofer IPA die neuen Technolo
 gien und zeigen potenzielle Anwendungen für Unternehmen.\nDeep Learning An
 sätze ermöglichen die Erstellung hochpräziser Modelle für den Einsatz in u
 nterschiedlichsten Anwendungsdomänen\, etwa der Produktion oder Medizin. A
 llerdings haben diese Modelle Black-Box-Charakter\, da die von ihnen geler
 nten Zusammenhänge so komplex und abstrakt sind\, dass sie von Menschen – 
 selbst von Experten – nicht mehr nachvollzogen werden können. Bei einigen 
 Anwendungen\, z.B. in sicherheitskritischen Bereichen\, ist jedoch nicht n
 ur die Genauigkeit der Vorhersagen\, sondern auch das Vertrauen in die Alg
 orithmen von enormer Bedeutung. Im Rahmen des Webinars wird ein allgemeine
 r Überblick über »Explainable AI« gegeben. Dies umfasst die Motivation für
  das Forschungsfeld\, wichtige Begriffsdefinitionen sowie eine Auswahl gän
 giger Erklärungstechniken.\nDas Webinar findet von 09:00 Uhr bis 10:00 Uhr
  statt.\nReferent:Nina SchaafZentrum für Cyber Cognitive IntelligenceFraun
 hofer IPA\nWeitere Informationen zu dem Webinar finden Sie auf der Website
  des Fraunhofer IPA... http://bomi40.eu/de/service-kompetenz/veranstaltung
 en/ort/event/1963-webinar-explainable-ai-blick-in-die-black-box
DTSTART;VALUE=DATE:20200715
LOCATION: Online an Ihrem PC oder Laptop ()
SUMMARY:Webinar Explainable AI: Blick in die Black-Box
URL:http://bomi40.eu/de/service-kompetenz/veranstaltungen/ort/event/1963-we
 binar-explainable-ai-blick-in-die-black-box
END:VEVENT
END:VCALENDAR
