BEGIN:VCALENDAR
VERSION:2.0
PRODID:-//http://bomi40.eu///NONSGML kigkonsult.se iCalcreator 2.10.15//
METHOD:PUBLISH
BEGIN:VEVENT
UID:20260419T195033CEST-6692l82Ui7@http://bomi40.eu/
DTSTAMP:20260419T175033Z
DESCRIPTION:Digitale Zwillinge im praktischen Einsatz\nWas ist ein Digitale
 r Zwilling? Welche Ansätze gibt es dafür und wie können diese konkret umge
 setzt werden? Worin besteht der Nutzen des Digitalen Zwillings für das Bus
 iness? Referenten von führenden Schweizer Unternehmen und Hochschulen präs
 entieren ihre Erfahrungen mit realen Umsetzungsschritten Digitaler Zwillin
 ge.\nDer Begriff «Digitaler Zwilling» ist in kurzer Zeit sehr populär gewo
 rden. Doch oft ist nicht klar\, was damit gemeint ist. Häufig gezeigt werd
 en 3D-Visualisierungen von Maschinen oder Produkten\, um diese z.B. einem 
 Kunden im Verkaufsgespräch zu erklären. Es gibt jedoch zahlreiche andere F
 ormen von Digitalen Zwillingen\, die je nach Einsatzgebiet in komplett and
 erer Form daherkommen.\nViel zentraler als die Darstellungsform ist jedoch
  der Business Nutzen\, welcher mit dem Zwilling angestrebt wird. Im Fokus 
 der Konferenz stehen daher Fragen wie: Für welche User soll ein Digitaler 
 Zwilling eingesetzt werden? Welche Jobs sollen dabei unterstützt werden? W
 elche technische Form eines Digitalen Zwillings ist dafür überhaupt geeign
 et? Und wie kann ein solcher kosteneffizient entwickelt und betrieben werd
 en?\nDie Veranstaltung findet via Zoom statt.\nReferenten:\n\nHans-Ludwig 
 Boxheimer\, Team Leader\, GE\nDr. Eric Knopf\, Chief Engineer Rotordynamic
 s\, GE\n\nweitere Termine:\n01.09.2020 16.00 – 18.00 Uhr \n\nDaniel Pfiffn
 er\, Geschäftsführer\, Prosim\nPatrick Baumann\, Development Engineer\, RO
 STA AG\n\n07.09.2020 16.00 – 18.00 Uhr\n\nTeresa Alberts\, CEO\, ITficient
 \nDr. Wilfried Bürzle\, Systemingenieur\, Product Owner Radsatzmonitoring\
 , SBB\n\n08.09.2020 16.00 – 18.00 Uhr\n\nBjörn Schulte\, Thyssenkrupp\nDr.
  Fredrik Gundelsweiler\,&nbsp\;Principal Consultant / Head of Mobile & AR/
 VR\, Zühlke\n\n&nbsp\;\nWeitere Informationen zur Konferenz finden Sie auf
  der Website der ZHAW... http://bomi40.eu/de/service-kompetenz/veranstaltu
 ngen/ort/event/1983-4-konferenz-perspektiven-mit-industrie-4-0-teil-1
DTSTART:20200831T140000Z
DTEND:20200831T160000Z
LOCATION: Online an Ihrem PC oder Laptop ()
SUMMARY:4. Konferenz Perspektiven mit Industrie 4.0 - Teil 1
URL:http://bomi40.eu/de/service-kompetenz/veranstaltungen/ort/event/1983-4-
 konferenz-perspektiven-mit-industrie-4-0-teil-1
END:VEVENT
END:VCALENDAR
