BEGIN:VCALENDAR
VERSION:2.0
PRODID:-//http://bomi40.eu///NONSGML kigkonsult.se iCalcreator 2.10.15//
METHOD:PUBLISH
BEGIN:VEVENT
UID:20260419T193108CEST-3946Zm3UNl@http://bomi40.eu/
DTSTAMP:20260419T173108Z
DESCRIPTION:Das Bavarian Center of Applied Research und die Technische Hoch
 schule Ingolstadt veranstalten eine internationale Konferenz. - Natürlich 
 online! Themen sind automatisiertes Fliegen oder Autofahren und wie wir un
 s in der Zukunft bewegen. Es werden aktuelle Trends in Deutschland und Lat
 einamerika thematisiert.\n\nDie Veranstaltung bietet Online Sessions à 90m
 in\n\nSession 1: Fahren oder Fliegen - Mobilität der Zukunft überdenken (3
 . November\, 18 Uhr)\nSession 2: Elektromobilität - Der Kampf um die Vorhe
 rrschaft der Elektroautos (4. November\, 16.00 Uhr)\nSession 3: Automatisi
 ertes Fahren - immer noch ein utopischer Traum? (4. November\, 18.00 Uhr)
 \nSession 4: IoT & Agilität - Hype oder Chance? (5. November\, 16.30 Uhr)
 \n\nBitte registrieren Sie sich für Ihre kostenlose Online-Teilnahme unter
  folgendem Link: www.events.thi.de\nGenauere Informationen zu den einzelne
 n Sessions erhalten Sie hier http://bomi40.eu/de/service-kompetenz/veranst
 altungen/ort/event/2030-konferenz-aware-share-international-event
DTSTART:20201103T111000Z
DTEND:20201105T131000Z
LOCATION: Online an Ihrem PC oder Laptop ()
SUMMARY:Konferenz: AWARE + SHARE international event
URL:http://bomi40.eu/de/service-kompetenz/veranstaltungen/ort/event/2030-ko
 nferenz-aware-share-international-event
END:VEVENT
END:VCALENDAR
