BEGIN:VCALENDAR
VERSION:2.0
PRODID:-//http://bomi40.eu///NONSGML kigkonsult.se iCalcreator 2.10.15//
METHOD:PUBLISH
BEGIN:VEVENT
UID:20260419T193453CEST-7053FGbU1D@http://bomi40.eu/
DTSTAMP:20260419T173453Z
DESCRIPTION:Prof. Dr.-Ing. Stefan Schweiger lädt Sie ganz herzlich zu seine
 m Vortrag über sein Forschungssemester ein:Der Vortrag findet am Donnersta
 g\, 05.11.2020 von 17.30 bis 18.30 Uhr online statt. \nDas Thema lautet 'C
 hancen und Herausforderungen der Digitalisierung im Servicemanagement - Be
 richt aus dem Forschungssemester von Prof. Dr.-Ing. Stefan Schweiger'Es st
 eht Ihnen bereit ein WebEx-Link zum Vortrag zur Verfügung: https://htwg-ko
 nstanz.webex.com/meet/schweig\nProf. Dr.-Ing. Stefan Schweiger ist Profess
 or an der HTWG in Konstanz der Fakultät Wirtschaft WS. Er befasst sich mit
  allgemeiner BWL\, speziell Industrielle Projektplanung & Prozessmanagemen
 t.\nWeitere Informationen zu Prof. Dr.-Ing. Stefan Schweiger finden Sie au
 f der Website der HTWG Konstanz. http://bomi40.eu/de/service-kompetenz/ver
 anstaltungen/ort/event/2037-vortrag-forschungssemester-von-prof-dr-ing-sch
 weiger
DTSTART:20201105T163000Z
DTEND:20201105T173000Z
LOCATION: Online an Ihrem PC oder Laptop ()
SUMMARY:Vortrag: Forschungssemester von Prof. Dr. Ing. Schweiger
URL:http://bomi40.eu/de/service-kompetenz/veranstaltungen/ort/event/2037-vo
 rtrag-forschungssemester-von-prof-dr-ing-schweiger
END:VEVENT
END:VCALENDAR
