BEGIN:VCALENDAR
VERSION:2.0
PRODID:-//http://bomi40.eu///NONSGML kigkonsult.se iCalcreator 2.10.15//
METHOD:PUBLISH
BEGIN:VEVENT
UID:20260419T202541CEST-3711HUbfJd@http://bomi40.eu/
DTSTAMP:20260419T182541Z
DESCRIPTION:Das Bundesministerium für Wirtschaft und Energie möchte Sie zum
  Digital-Gipfel 2020 vom 30. November bis 1. Dezember einladen.\n\nDer Dig
 ital-Gipfel wird erstmals als rein virtuelles Event durchgeführt. Unter de
 m Motto „Digital nachhaltiger leben“ wird er sich der Frage widmen\, wie D
 igitalisierung zum Treiber von Nachhaltigkeit werden kann. Es werden außer
 dem Möglichkeiten aufgezeigt\, den Energie- und Ressourcenverbrauch der IT
  selbst mit neuen innovativen Ansätzen zu reduzieren.\nMontag\, 30. Novemb
 er 2020: Am ersten Tag des Gipfels werden die Plattformen das Schwerpunktt
 hema in mehr als 20 Veranstaltungen aus ihrer jeweiligen Perspektive beleu
 chten und ihre Arbeitsergebnisse vorstellen.\nDienstag\, 1. Dezember 2020:
  Am zweiten Tag des Gipfels diskutieren Vertreterinnen und Vertreter aus P
 olitik\, Wirtschaft\, Wissenschaft sowie Gewerkschaften und Gesellschaft a
 uf höchster Ebene Möglichkeiten der Digitalisierung als Treiber einer nach
 haltigen Wirtschaft\, Arbeitswelt\, Bildung\, Umwelt und Infrastruktur.\nN
 achfolgend haben Sie die Möglichkeit\, sich für die Teilnahme an der Veran
 staltungen im Livestream zu registrieren: www.bmwi-registrierung.de\nEinig
 e Tage vor der Veranstaltung erhalten Sie neben dem Link zum Livestream au
 ch weitere relevante Informationen.\nWeitere Informationen zum Digital-Gip
 fel finden Sie auf der Website des Bundesministeriums für Wirtschaft und E
 nergie http://bomi40.eu/de/service-kompetenz/veranstaltungen/ort/event/203
 8-digital-gipfel-2020
DTSTART:20201130T080000Z
DTEND:20201201T160000Z
LOCATION: Online an Ihrem PC oder Laptop ()
SUMMARY:Digital-Gipfel 2020
URL:http://bomi40.eu/de/service-kompetenz/veranstaltungen/ort/event/2038-di
 gital-gipfel-2020
END:VEVENT
END:VCALENDAR
