BEGIN:VCALENDAR
VERSION:2.0
PRODID:-//http://bomi40.eu///NONSGML kigkonsult.se iCalcreator 2.10.15//
METHOD:PUBLISH
BEGIN:VEVENT
UID:20260419T205537CEST-7507cWpCLk@http://bomi40.eu/
DTSTAMP:20260419T185537Z
DESCRIPTION:Das neue EU-Rahmenprogramm für Forschung und Innovation „Horizo
 nt Europa“ startet am 1. Januar 2021 und wird eines der größten Förderprog
 ramme für Forschung und Innovation weltweit sein. Es folgt dem laufenden P
 rogramm „Horizont 2020“ und beinhaltet ebenfalls eine Vielzahl an Unterstü
 tzungsmöglichkeiten.\n„Horizont Europa“ bietet große Chancen für Unternehm
 en\, Hochschulen und Forschungseinrichtungen in Baden-Württemberg. Es ist 
 Zeit\, Kompetenzen zu bündeln und Ideen für Projektanträge zu schmieden.\n
 Das Ministerium für Wissenschaft\, Forschung und Kunst und das Ministerium
  für Wirtschaft\, Arbeit und Wohnungsbau Baden-Württemberg möchten vor Pro
 grammstart umfassend über F&E-Fördermöglichkeiten von „Horizont Europa“ in
 formieren und die Möglichkeit zum fachlichen Austausch bieten.\nDas europä
 ische Förderprogramm ist eine ausgezeichnete Gelegenheit\, finanzielle Unt
 erstützung für besondere Forschungs- und Innovationsprojekte zu bekommen u
 nd zugleich mit exzellenten Institutionen Europas im Bereich Forschung und
  Innovation zusammenzuarbeiten. Universitäten und Forschungseinrichtungen 
 finden offene Aufrufe für Grundlagenforschung\, aber auch interessante Ver
 bundforschungsthemen für gemeinsame Projekte mit Anwendern. Unternehmen kö
 nnen sich sowohl in der Rolle des Anwenders als auch des Innovationstreibe
 rs für Verbund- und einzelbetriebliche Forschung und Innovation bewerben. 
 Besonders spannend für Start-ups\, Scale-ups und alle anderen hoch innovat
 iven Unternehmen sind die neuen Förderchancen im Europäischen Innovationsr
 at.\nWas für Sie die besten Chancen bringt\, welche Themen genau im Fokus 
 stehen und welche Voraussetzungen Sie als Antragsteller mitbringen müssen 
 – das erfahren Sie am 9. Dezember 2020 bei der virtuellen Veranstaltung. N
 utzen Sie Ihre Chancen und merken Sie sich heute bereits das Datum vor.\nW
 eitere Informationen sowie das Programm inklusive Anmeldemöglichkeit folge
 n in Kürze auf der Veranstaltungswebsite. http://bomi40.eu/de/service-komp
 etenz/veranstaltungen/ort/event/2041-neuer-horizont-fuer-europa-chancen-fu
 er-forschung-und-innovation-mit-dem-eu-rahmenprogramm-2021-2027
DTSTART:20201209T090000Z
DTEND:20201209T143000Z
LOCATION: Online an Ihrem PC oder Laptop ()
SUMMARY:Neuer Horizont für Europa - Chancen für Forschung und Innovation mi
 t dem EU-Rahmenprogramm 2021-2027
URL:http://bomi40.eu/de/service-kompetenz/veranstaltungen/ort/event/2041-ne
 uer-horizont-fuer-europa-chancen-fuer-forschung-und-innovation-mit-dem-eu-
 rahmenprogramm-2021-2027
END:VEVENT
END:VCALENDAR
