BEGIN:VCALENDAR
VERSION:2.0
PRODID:-//http://bomi40.eu///NONSGML kigkonsult.se iCalcreator 2.10.15//
METHOD:PUBLISH
BEGIN:VEVENT
UID:20260419T205219CEST-0627kWe1TX@http://bomi40.eu/
DTSTAMP:20260419T185219Z
DESCRIPTION:Seit Anfang 2020 lässt das Ministerium für Wirtschaft\, Arbeit 
 und Wohnungsbau Baden-Württemberg im Rahmen einer Machbarkeitsstudie durch
  den globalen Immobiliendienstleister CBRE die Realisierung eines Innovati
 onsparks für Künstliche Intelligenz (KI) in Baden-Württemberg prüfen. Der 
 Innovationspark KI soll ein national und international herausragendes Inno
 vations- und Wertschöpfungszentrum im Bereich KI bilden. Die Diskussion um
  einen Innovationspark KI hat im Laufe der letzten Monate stark an Dynamik
  gewonnen.\nDie Veranstalter möchten nochmals mehr Tempo aufnehmen und den
  Innovationspark KI beschleunigt in die Umsetzung bringen: Der Landtag von
  Baden-Württemberg hat am 14. Oktober 2020 beschlossen\, dass das Land im 
 Rahmen des Konjunkturpakets „Zukunftsland BW – Wege aus der Krise“ Förderm
 ittel in beträchtlicher Höhe für einen Innovationspark KI Baden-Württember
 g zur Verfügung stellen kann.\nDie für den 5. November 2020 geplante virtu
 elle Konferenz zum Innovationspark KI muss aus organisatorischen Gründen l
 eider verschoben werden. Es ist vorgesehen\, die Veranstaltung schnellstmö
 glich nachzuholen. Der neue Termin wird zeitnah insbesondere auf www.innov
 ationspark-ki-bw.de und über Social Media sowie über die sonstigen bestehe
 nden Informationskanäle an Sie kommuniziert.\n\nDie Veranstalter hoffen se
 hr\, dass diese Terminverschiebung für Sie keine Unannehmlichkeiten mit si
 ch bringt. Eine erneute Anmeldung ist nicht notwendig. Wir lassen Ihnen ze
 itnah die neuen Informationen zur Veranstaltungsteilnahme zukommen.&nbsp\;
 \n\nGerne können Sie während der Veranstaltung entsprechende Fragestellung
 en über die integrierte Frage-und-Antwort-Funktion platzieren und die Frag
 erunde so aktiv mitgestalten.Zudem können Sie Ihre Fragen gerne bereits vo
 rab an folgende E-Mail-Adresse übermitteln: innovationspark-ki.badenwuertt
 emberg@cbre.com.\nWeitere Informationen&nbsp\;zum Innovationspark KI und z
 ur Machbarkeitsstudie finden Sie unter www.innovationspark-ki-bw.de.\nWeit
 ere Informationen zu der Veranstaltung finden Sie hier. http://bomi40.eu/d
 e/service-kompetenz/veranstaltungen/ort/event/2084-virtuelle-konferenz-inn
 ovationspark-ki-baden-wuerttemberg
DTSTART:20201105T130000Z
DTEND:20201105T150000Z
LOCATION: Online an Ihrem PC oder Laptop ()
SUMMARY:Virtuelle Konferenz „Innovationspark KI Baden-Württemberg“
URL:http://bomi40.eu/de/service-kompetenz/veranstaltungen/ort/event/2084-vi
 rtuelle-konferenz-innovationspark-ki-baden-wuerttemberg
END:VEVENT
END:VCALENDAR
