BEGIN:VCALENDAR
VERSION:2.0
PRODID:-//http://bomi40.eu///NONSGML kigkonsult.se iCalcreator 2.10.15//
METHOD:PUBLISH
BEGIN:VEVENT
UID:20260419T193107CEST-7441uZMVGi@http://bomi40.eu/
DTSTAMP:20260419T173107Z
DESCRIPTION:Die Veranstaltung wird von den de:hubs Karlsruhe und Stuttgart 
 gemeinsam mit den Digitalen Innovationszentrum (DIZ) initiiert und durchge
 führt. Es handelt sich um ein Workshop-Event\, bei dem es um Austausch und
  Kompetenztransfer zur digitalen Transformation geht. Die Veranstalter zei
 gen auf\, wie Champions des Industriezeitalters zu Champions des Informati
 onszeitalters werden und erläutern\, warum Digitale Transformation mehr al
 s Digitalisierung ist und was IoT und Künstliche Intelligenz mit zukünftig
 em Erfolg zu tun haben.\nEine Veranstaltung aus der Praxis für die Praxis!
 \nInhalte\n\nEinführung – Digitale Transformation – Schlüssel für zukünfti
 gen Erfolg\nImpulsvortrag: KI als Game Changer der Industrie\nBericht aus 
 der Praxis: Wenn KI den Unterschied macht: Lernende Maschinen setzen neue 
 Maßstäbe in der Blechfertigung\n\nWeitere Informationen zu der Veranstaltu
 ng und Anmeldung finden Sie hier... http://bomi40.eu/de/service-kompetenz/
 veranstaltungen/ort/event/2097-impuls-iot-und-ki-im-mittelstand
DTSTART:20201125T150000Z
DTEND:20201125T183000Z
LOCATION: Online an Ihrem PC oder Laptop ()
SUMMARY:IMPULS: IoT und KI im Mittelstand
URL:http://bomi40.eu/de/service-kompetenz/veranstaltungen/ort/event/2097-im
 puls-iot-und-ki-im-mittelstand
END:VEVENT
END:VCALENDAR
