BEGIN:VCALENDAR
VERSION:2.0
PRODID:-//http://bomi40.eu///NONSGML kigkonsult.se iCalcreator 2.10.15//
METHOD:PUBLISH
BEGIN:VEVENT
UID:20260419T193352CEST-69741liU5n@http://bomi40.eu/
DTSTAMP:20260419T173352Z
DESCRIPTION:Am Dienstag\, 24.11.2020 findet die erste digitale Weiterbildun
 gsmesse Baden-Württembergs statt. 55 Aussteller erwarten Sie von 15-20 Uhr
  online an Ihrem PC. \n\nUnter vielen interessanten Ausstellern ist das Re
 ferat Weiterbildung als Aussteller an der virtuellen Weiterbildungsmesse v
 ertreten.\nMesse Live bietet Ihnen Live-Beratungen an allen Messeständen m
 it Video-Chat sowie ein Online-Besuchercafé zum Vernetzen.\nDie Messe ist 
 für Besucherinnen und Besucher kostenfrei. Eine Anmeldung ist nicht erford
 erlich. Es werden keine Kontaktdaten erfasst.\nUm interaktiv teilnehmen zu
  können\, benötigen Sie: Mikrofon/Lautsprecher oder Headset\, und gegebene
 nfalls Webcam. Um alle Bereiche der Messe besuchen zu können\, empfehlen w
 ir\, sämtliche Cookies zu bestätigen.\n'KOMPENEX – Digitale Weiterbildungs
 messe BW' ist eine Veranstaltung des Ministeriums für Wirtschaft\, Arbeit 
 und Wohnungsbau Baden-Württemberg sowie den Regionalbüros für berufliche F
 ortbildung Baden-Württemberg.\nWeitere Informationen zu der digitalen Weit
 erbildungsmesse BW finden Sie auf der Website von KOMPENEX... http://bomi4
 0.eu/de/service-kompetenz/veranstaltungen/ort/event/2105-kompenex-die-erst
 e-digitale-weiterbildungsmesse-baden-wuerttembergs
DTSTART:20201124T140000Z
DTEND:20201124T190000Z
LOCATION: Online an Ihrem PC oder Laptop ()
SUMMARY:KOMPENEX - die erste digitale Weiterbildungsmesse Baden-Württemberg
 s
URL:http://bomi40.eu/de/service-kompetenz/veranstaltungen/ort/event/2105-ko
 mpenex-die-erste-digitale-weiterbildungsmesse-baden-wuerttembergs
END:VEVENT
END:VCALENDAR
