BEGIN:VCALENDAR
VERSION:2.0
PRODID:-//http://bomi40.eu///NONSGML kigkonsult.se iCalcreator 2.10.15//
METHOD:PUBLISH
BEGIN:VEVENT
UID:20260419T204749CEST-62950uTR6p@http://bomi40.eu/
DTSTAMP:20260419T184749Z
DESCRIPTION:Vom 12.04.2021 bis 16.04.2021 warten spannende Top-Speaker und 
 Aussteller auf Sie.\nNutzen Sie die digitale HANNOVER MESSE\, um die Wettb
 ewerbsfähigkeit Ihres Unternehmens zu stärken. Nutzen Sie die digitale HAN
 NOVER MESSE\, um die Wettbewerbsfähigkeit Ihres Unternehmens zu stärken.We
 lche Rolle spielt KI in der Industrie? Wie generiere ich Mehrwert aus mein
 en Daten? Welches Potenzial bietet Wasserstoff für die Industrie? Diese un
 d weitere Fragen werden im interaktiven Konferenzprogramm der HANNOVER MES
 SE adressiert. Ob konkrete Anwendungsfälle oder langfristige Zukunftsstrat
 egien: Lassen Sie sich von den Ideen und Visionen der Vortragenden inspiri
 eren und leiten Sie davon konkrete Maßnahmen für Ihr Unternehmen ab. Trete
 n Sie direkt mit den Ausstellern\, Sprechern und den digitalen Besuchern d
 er HANNOVER MESSE in Kontakt. Über Ihr personalisiertes Dashboard werden d
 ie für Sie relevanten Unternehmen\, Top-Speaker und Teilnehmer angezeigt.
 \nNutzen Sie die Möglichkeit\, sich über die Top-Themen der verschiedenen 
 Branchen zu informieren\, sich weiterzubilden\, auszutauschen und neue Imp
 ulse und Innovationen mitzunehmen. Profitieren Sie vom Experten-Know-how u
 nd sichern Sie sich den Mehrwert für Ihren geschäftlichen Alltag. Die erst
 e Veranstaltungsübersicht steht Ihnen hier in Kürze zur Verfügung.\nWeiter
 e Informationen zur Veranstaltung finden Sie auf der Website der HANNOVER 
 MESSE... http://bomi40.eu/de/service-kompetenz/veranstaltungen/ort/event/2
 119-hannover-messe
DTSTART:20210412T040000Z
DTEND:20210416T180000Z
LOCATION: Online an Ihrem PC oder Laptop ()
SUMMARY:Hannover Messe
URL:http://bomi40.eu/de/service-kompetenz/veranstaltungen/ort/event/2119-ha
 nnover-messe
END:VEVENT
END:VCALENDAR
