BEGIN:VCALENDAR
VERSION:2.0
PRODID:-//http://bomi40.eu///NONSGML kigkonsult.se iCalcreator 2.10.15//
METHOD:PUBLISH
BEGIN:VEVENT
UID:20260419T211014CEST-0961lgkjrz@http://bomi40.eu/
DTSTAMP:20260419T191014Z
DESCRIPTION:Das 'InnovationsForum Südwest' ist das regionale Innovationsman
 agement für unsere Wirtschaftsregion. In Zusammenarbeit mit den Landkreise
 n Lörrach und Waldshut und gemeinsam mit der regionalen Wirtschaft wird wä
 hrend der Projektlaufzeit von drei Jahren (2019-2021) ein innovationsfreun
 dliches Umfeld entwickelt.Zentrales Ziel ist es\, Angebote und Strukturen 
 des bestehenden regionalen Innovationssystems transparenter zu machen (für
  die Akteure selbst und für die Unternehmen) sowie die Akteure untereinand
 er besser zu vernetzen\, Kompetenzen zu bündeln und gemeinsam die Schlagkr
 aft zu erhöhen. Veranstaltungen und Mitgliedschaft sind dank Fördermitteln
  kostenfrei. http://bomi40.eu/de/service-kompetenz/veranstaltungen/ort/eve
 nt/2120-innovationsforum-suedwest-der-verkauf-der-zukunft-ist-digital-auch
 -in-der-cnc-fertigungsindustrie
DTSTART:20210202T070000Z
DTEND:20210202T080000Z
LOCATION: Online an Ihrem PC oder Laptop ()
SUMMARY:InnovationsForum Südwest: „Der Verkauf der Zukunft ist digital –auc
 h in der CNC Fertigungsindustrie“
URL:http://bomi40.eu/de/service-kompetenz/veranstaltungen/ort/event/2120-in
 novationsforum-suedwest-der-verkauf-der-zukunft-ist-digital-auch-in-der-cn
 c-fertigungsindustrie
END:VEVENT
END:VCALENDAR
