BEGIN:VCALENDAR
VERSION:2.0
PRODID:-//http://bomi40.eu///NONSGML kigkonsult.se iCalcreator 2.10.15//
METHOD:PUBLISH
BEGIN:VEVENT
UID:20260419T193452CEST-5122ZXp3HX@http://bomi40.eu/
DTSTAMP:20260419T173452Z
DESCRIPTION:Wie hat sich das Mobilitätsverhalten verändert? Können durch di
 gitale und vernetzte Angebote regionaler Dienstleister Verhaltensänderunge
 n auch bei den Mobilitätsnutzern im Thurgau erreicht werden?\nDr. Roland S
 cherer\, Direktor IMP-HSG\, Universität St.Gallen und DenkRaumBodensee und
  Regula Broger\, Vizepräsidentin des Stiftungsrats Think Tank Thurgau spre
 chen hierüber mit Werner Fritschi\, Leiter Markt bei der Regionalbahn Thur
 bo AG und Präsident Thurgau Tourismus.\nInformationen zu Themen und Gesprä
 chspartnern finden Sie unter:&nbsp\;www.thinktankthurgau.ch http://bomi40.
 eu/de/service-kompetenz/veranstaltungen/ort/event/2125-ttt-talk-2021-hat-d
 ie-mobilitaet-eine-zukunft
DTSTART:20210225T110000Z
DTEND:20210225T120000Z
LOCATION: Online an Ihrem PC oder Laptop ()
SUMMARY:TTT-Talk 2021 - Hat die Mobilität eine Zukunft?
URL:http://bomi40.eu/de/service-kompetenz/veranstaltungen/ort/event/2125-tt
 t-talk-2021-hat-die-mobilitaet-eine-zukunft
END:VEVENT
END:VCALENDAR
