BEGIN:VCALENDAR
VERSION:2.0
PRODID:-//http://bomi40.eu///NONSGML kigkonsult.se iCalcreator 2.10.15//
METHOD:PUBLISH
BEGIN:VEVENT
UID:20260419T193817CEST-4545XKl3Ux@http://bomi40.eu/
DTSTAMP:20260419T173817Z
DESCRIPTION:Zum 1. Januar 2020 ist in Deutschland das Gesetz zur steuerlich
 en Förderung von Forschung und Entwicklung (Forschungszulagengesetz) in Kr
 aft getreten. Das Gesetz ermöglicht die steuerliche Begünstigung von Forsc
 hungsausgaben von Unternehmen und soll Anreize setzen\, in Forschung und E
 ntwicklung (FuE) zu investieren.\nDie BSFZ führt gemeinsam mit dem Bundesm
 inisterium der Finanzen die im letzten Jahr erfolgreich gestartete virtuel
 le Roadshow fort.&nbsp\;Ziel ist es\, Unternehmen alles Wichtige rund um d
 ie Steuerliche Forschungsförderung zu präsentieren und Fragen der Teilnehm
 erinnen und Teilnehmer zu beantworten.\nZu folgenden Themen werden Informa
 tionen vermittelt:\n\nEinführung Steuerliche Forschungsförderung und Forsc
 hungszulagengesetz: Anspruchsberechtigung\, begünstigungsfähige FuE-Vorhab
 en und das zweistufige Antragsverfahren\nDas Antragsverfahren bei der BSFZ
 : Antragsformular\, Prüfkriterien und Beispiele für FuE-Tätigkeiten\nDer A
 ntrag auf Forschungszulage: Förderfähige Aufwendungen\, Bemessungsgrundlag
 e\, Fördersatz und das Verfahren beim Finanzamt\n\n\nMelden Sie sich über 
 den folgenden Link an: https://www.bescheinigung-forschungszulage.de/veran
 staltungen.\nDie Teilnahme ist kostenlos!\n http://bomi40.eu/de/service-ko
 mpetenz/veranstaltungen/ort/event/2130-roadshow-sueddeutschland-steuerlich
 e-forschungsfoerderung-roadshow-bsfz-bmf-2021
DTSTART:20210311T133000Z
DTEND:20210311T150000Z
LOCATION: Online an Ihrem PC oder Laptop ()
SUMMARY:Roadshow Süddeutschland: Steuerliche Forschungsförderung: Roadshow 
 BSFZ & BMF 2021
URL:http://bomi40.eu/de/service-kompetenz/veranstaltungen/ort/event/2130-ro
 adshow-sueddeutschland-steuerliche-forschungsfoerderung-roadshow-bsfz-bmf-
 2021
END:VEVENT
END:VCALENDAR
