BEGIN:VCALENDAR
VERSION:2.0
PRODID:-//http://bomi40.eu///NONSGML kigkonsult.se iCalcreator 2.10.15//
METHOD:PUBLISH
BEGIN:VEVENT
UID:20260419T192130CEST-4027n6xftv@http://bomi40.eu/
DTSTAMP:20260419T172130Z
DESCRIPTION:VIRTUAL TALK - Virtuelle interaktive Diskussionsrunde zum Thema
  digitale Vertriebsprozesse mit drei verschiedenen Aspekten: Unternehmenss
 icht\, technische Seite und Beratersicht\nVirtuelle Technologien bieten ni
 cht nur für hochtechnologisierte Branchen und Betriebe großes Potential. A
 uch der Mittelstand kann die Vorteile dieser innovativen Lösungen für die 
 eigenen Wertschöpfungsketten nutzen. Die praktische Anwendung\, z.B. durch
  VR-Brillen\,&nbsp\;&nbsp\;kann schnell in die Umsetzung gebracht werden -
  ganz gleich ob im Handwerk\, der Industrie oder in anderen Branchen. Vom&
 nbsp\;Mehrwert durch technologische Unterstützung können Unternehmen beisp
 ielsweise in der Produktion\, der Planung\, der Wartung sowie der&nbsp\;Au
 s- und Weiterbildung von Mitarbeitern profitieren und somit virtuelle und 
 erweiterte Realität gewinnbringend und ressourcensparend einsetzen.&nbsp\;
 ​​​​​​​\nExperten*innen im Talk:\nFelix Schwarz – The Apic – Klinke und Sc
 hwarz GbR\, FellbachProf. Dr. Jan Olaf – Duale Hochschule Baden-Württember
 g\, LörrachSonja Dörflinger und Jens Kröger – Endress + Hauser SE+Co. KG\,
  Maulburg Catharina Huf – Hochschule Offenburg – Projekt DIGIHUB SüdbadenE
 veline Malcherek – Wirtschaftsregion Südwest GmbH\, Lörrach – Projekt DIGI
 HUB Südbaden\nAnmeldeformular\nWeitere Informationen zur Veranstaltung fin
 den Sie hier... http://bomi40.eu/de/service-kompetenz/veranstaltungen/ort/
 event/2153-netzwerk-digihub-virtual-talk-virtuelle-und-erweiterte-realitae
 t
DTSTART:20210317T230000Z
DTEND:20210318T170000Z
LOCATION: Online an Ihrem PC oder Laptop ()
SUMMARY:Netzwerk DIGIHUB  VIRTUAL TALK – Virtuelle und erweiterte Realität 
URL:http://bomi40.eu/de/service-kompetenz/veranstaltungen/ort/event/2153-ne
 tzwerk-digihub-virtual-talk-virtuelle-und-erweiterte-realitaet
END:VEVENT
END:VCALENDAR
