BEGIN:VCALENDAR
VERSION:2.0
PRODID:-//http://bomi40.eu///NONSGML kigkonsult.se iCalcreator 2.10.15//
METHOD:PUBLISH
BEGIN:VEVENT
UID:20260419T205416CEST-8650ON4uoG@http://bomi40.eu/
DTSTAMP:20260419T185416Z
DESCRIPTION:Bei dieser Veranstaltung informieren Sie FFG Förderexperten übe
 r Fördermöglichkeiten im Rahmen der FFG Basisprogramme und Impact Innovati
 on und stehen für Fragen zur Verfügung. Darüber hinaus erfahren Sie mehr ü
 ber die Unterstützungsmöglichkeiten seitens der WISTO.\nIm Rahmen der Vera
 nstaltung werden die folgenden Förderprogramme näher vorgestellt:Basisförd
 erungGreen FrontrunnerKleinprojektImpact Innovation\nAgenda:Begrüßung | WI
 STOPräsentation zu F&E Förderungen und den Basisprogrammen | DI Dr. Alexan
 der Reiterer\, FFGQ&A-SessionPräsentation zu Impact Innovation | Mag. Matt
 hias Weichhart\, FFGQ&A-SessionWeiterführende Diskussionen zu den Fördermö
 glichkeiten in Gruppen\nAnmeldeformular\nWeitere Informationen zur Veranst
 altung finden Sie hier... http://bomi40.eu/de/service-kompetenz/veranstalt
 ungen/ort/event/2156-aktuelles-zu-ffg-foerderungen-fuer-f-e-und-impact-inn
 ovation
DTSTART:20210324T130000Z
DTEND:20210324T143000Z
LOCATION: Online an Ihrem PC oder Laptop ()
SUMMARY:Aktuelles zu FFG Förderungen für F&E und Impact Innovation
URL:http://bomi40.eu/de/service-kompetenz/veranstaltungen/ort/event/2156-ak
 tuelles-zu-ffg-foerderungen-fuer-f-e-und-impact-innovation
END:VEVENT
END:VCALENDAR
