BEGIN:VCALENDAR
VERSION:2.0
PRODID:-//http://bomi40.eu///NONSGML kigkonsult.se iCalcreator 2.10.15//
METHOD:PUBLISH
BEGIN:VEVENT
UID:20260419T193809CEST-0843COBPwb@http://bomi40.eu/
DTSTAMP:20260419T173809Z
DESCRIPTION:Das Maybach-Seminar ist eine öffentliche Veranstaltungsreihe an
  der DHBW Ravensburg Campus Friedrichshafen in Zusammenarbeit mit dem IWT 
 Institut für Weiterbildung\, Wissens- und Technologietransfer bei der in e
 inem oder mehreren Vorträgen aktuelle Themen aus den Wirtschafts- und Inge
 nieurwissenschaften präsentiert und diskutiert werden. Zur Zielgruppe des 
 Seminars gehört die allgemeine Öffentlichkeit\, dazu zählen Mitarbeiter de
 r regionalen Industrie\, Angehörige der DHBW und anderer Hochschulen\, Pri
 vatpersonen sowie auch Studierende in höheren Semestern.\nDie Teilnahme is
 t kostenfrei.\nAnmeldung\nWeitere Informationen zur Veranstaltung finden S
 ie hier... http://bomi40.eu/de/service-kompetenz/veranstaltungen/ort/event
 /2161-maybach-seminar-connected-car-ki-anwendungen-fuer-nextgen-automobil-
 telematikloesungen
DTSTART:20210420T160000Z
DTEND:20210420T180000Z
LOCATION: Online an Ihrem PC oder Laptop ()
SUMMARY:Maybach-Seminar “Connected Car KI-Anwendungen für NextGen Automobil
 -Telematiklösungen”
URL:http://bomi40.eu/de/service-kompetenz/veranstaltungen/ort/event/2161-ma
 ybach-seminar-connected-car-ki-anwendungen-fuer-nextgen-automobil-telemati
 kloesungen
END:VEVENT
END:VCALENDAR
