BEGIN:VCALENDAR
VERSION:2.0
PRODID:-//http://bomi40.eu///NONSGML kigkonsult.se iCalcreator 2.10.15//
METHOD:PUBLISH
BEGIN:VEVENT
UID:20260419T205625CEST-21844FwvAU@http://bomi40.eu/
DTSTAMP:20260419T185625Z
DESCRIPTION:In den kommenden Wochen präsentiert die BSFZ in mehreren Online
 -Seminaren gemeinsam mit dem Bundesministerium der Finanzen wieder alles W
 ichtige rund um die steuerliche Forschungsförderung.\nDie Veranstaltung is
 t eine Sonderveranstaltung für Branchen- und Wirtschaftsverbände\, Wirtsch
 aftsförderer und Innovationszentren.\nAn diesem Tag werden Informationen z
 u folgenden Themen vermittelt:• Einführung Steuerliche Forschungsförderung
  und Forschungszulagengesetz• Das Antragsverfahren bei der BSFZ: Antragsfo
 rmular\, Prüfkriterien und Beispiele für FuE-Tätigkeiten• Der Antrag auf F
 orschungszulage: Förderfähige Aufwendungen\, Bemessungsgrundlage\, Förders
 atz und das Verfahren&nbsp\;\nDie Teilnahme ist kostenlos.\nAnmeldeformula
 r\nWeitere Informationen zur Veranstaltung finden Sie hier... http://bomi4
 0.eu/de/service-kompetenz/veranstaltungen/ort/event/2165-steuerliche-forsc
 hungsfoerderung-infoveranstaltung-der-bescheinigungsstelle-forschungszulag
 e-und-des-bundesministeriums-der-finanzen
DTSTART:20210428T123000Z
DTEND:20210428T140000Z
LOCATION: Online an Ihrem PC oder Laptop ()
SUMMARY:Steuerliche Forschungsförderung: Infoveranstaltung der Bescheinigun
 gsstelle Forschungszulage und des Bundesministeriums der Finanzen
URL:http://bomi40.eu/de/service-kompetenz/veranstaltungen/ort/event/2165-st
 euerliche-forschungsfoerderung-infoveranstaltung-der-bescheinigungsstelle-
 forschungszulage-und-des-bundesministeriums-der-finanzen
END:VEVENT
END:VCALENDAR
