BEGIN:VCALENDAR
VERSION:2.0
PRODID:-//http://bomi40.eu///NONSGML kigkonsult.se iCalcreator 2.10.15//
METHOD:PUBLISH
BEGIN:VEVENT
UID:20260419T191538CEST-1586zh5Wf0@http://bomi40.eu/
DTSTAMP:20260419T171538Z
DESCRIPTION:'Wie könnte Ihre Gemeinde smart werden?' - Im Rahmen der Abschl
 usskonferenz des Projekts SmartVillages werden die Projektergebnisse der l
 etzten drei Jahre vorgestellt.\nDas Projekt SmartVillages\, dass 13 Projek
 tpartner in sechs Alpenländern vereint\, beschäftigte sich seit April 2018
  mit Fragestellungen einer digitalen Transformation in ländlichen Räumen. 
 Die SmartVillages-Abschlusskonferenz hat das Ziel\, Projektergebnisse zu p
 räsentieren\, insbesondere die Pilotprojekte\, die digitale Austauschplatt
 form und die „SmartVillages-Charta“.\n09:15 Uhr - Offener Zugang zur Absch
 lusskonferenz\n09:30 Uhr - Begrüßung und Eröffnung 09:40 Uhr - Von EUSALP 
 zu SmartVillages und zurück\n09:55&nbsp\;Uhr - Das SmartVillages Projekt10
 :10 Uhr - Pause\n10:20 Uhr - Einblicke in die SmartVillages-Testgebiete 11
 :30 Uhr - Pause\n11:40 Uhr - Zusammenfassung und Erfolgsfaktoren der Pilot
 projekte\n11:50 Uhr - Von den Pilotprojekten zu der digitalen Austauschpla
 ttform\n12:15 Uhr - Ende der Abschlusskonferenz\nEine kostenlose Anmeldung
  ist notwendig.\nWeitere Informationen zur Veranstaltunge finden Sie hier.
 ..\n&nbsp\;\n&nbsp\; http://bomi40.eu/de/service-kompetenz/veranstaltungen
 /ort/event/2189-abschlusskonferenz-des-eu-projekts-smartvillages
DTSTART:20210429T071500Z
DTEND:20210429T101500Z
LOCATION: Online an Ihrem PC oder Laptop ()
SUMMARY:Abschlusskonferenz des EU-Projekts SmartVillages 
URL:http://bomi40.eu/de/service-kompetenz/veranstaltungen/ort/event/2189-ab
 schlusskonferenz-des-eu-projekts-smartvillages
END:VEVENT
END:VCALENDAR
