BEGIN:VCALENDAR
VERSION:2.0
PRODID:-//http://bomi40.eu///NONSGML kigkonsult.se iCalcreator 2.10.15//
METHOD:PUBLISH
BEGIN:VEVENT
UID:20260419T211048CEST-6310vLABAE@http://bomi40.eu/
DTSTAMP:20260419T191048Z
DESCRIPTION:Der GründungsKompass Bodensee vermittelt im Rahmen einer 6-teil
 igen Seminarreihe kompakte Informationen und praktische Erfahrungen zu wic
 htigen Themen\, zeigt Ihnen Wege für Ihre persönliche Situation auf und br
 ingt Sie mit erfahrenen Experten und weiteren Gründungsinteressierten zusa
 mmen.\n&nbsp\;\nProgramm:\n17:00 Uhr Begrüßung und Rückblick auf die bishe
 rigen Themen\n17:10 Uhr Soziale Absicherung – Ausgleich zum Wegfall gesetz
 licher Systeme\n18:10 Uhr Zeit für Ihre Fragen und Erfahrungsaustausch\nEi
 ne kostenlose Anmeldung ist erforderlich.\nWeitere Informationen zur Veran
 staltung finden Sie hier... http://bomi40.eu/de/service-kompetenz/veransta
 ltungen/ort/event/2200-soziale-absicherung-ausgleich-zum-wegfall-gesetzlic
 her-systeme
DTSTART:20210505T150000Z
DTEND:20210505T163000Z
LOCATION: Online an Ihrem PC oder Laptop ()
SUMMARY:Soziale Absicherung: Ausgleich zum Wegfall gesetzlicher Systeme
URL:http://bomi40.eu/de/service-kompetenz/veranstaltungen/ort/event/2200-so
 ziale-absicherung-ausgleich-zum-wegfall-gesetzlicher-systeme
END:VEVENT
END:VCALENDAR
