BEGIN:VCALENDAR
VERSION:2.0
PRODID:-//http://bomi40.eu///NONSGML kigkonsult.se iCalcreator 2.10.15//
METHOD:PUBLISH
BEGIN:VEVENT
UID:20260419T204523CEST-979103kXf4@http://bomi40.eu/
DTSTAMP:20260419T184523Z
DESCRIPTION:Hinter jeder Technologie stecken Menschen – Ingenieur*innen\, P
 rogrammierer*innen\, Designer*innen und viele mehr. Sie bestimmen\, welche
  Technologien entwickelt werden und wie sie funktionieren. Wie können wir 
 diese Informationstechnologien nutzen\, um Veränderungen\, die wir in Beru
 f und Gesellschaft sehen wollen\, aktiv zu gestalten?\nMaren Heltsche zeig
 t durch den eigenen beruflichen Werdegang auf\, wie Wege Stück für Stück i
 n die IT gegangen werden können und wie die Auseinandersetzung mit den Tec
 hnologien neue berufliche Gestaltungsmöglichkeiten bietet – auch für Nicht
 -Programmierer*innen. Maren Heltsche erzählt von ihrem beruflichen Querein
 stieg in die IT.\nSie zeigt auf\, wie durch spielerische Kooperation Fraue
 n eine eigene digitale Plattform aufbauen können\, wie der IT-Quereinstieg
  gemeistert werden kann und wie sich Frauen für ihren beruflichen Erfolg d
 igital selbstgesteuert vernetzen können.\nAnmeldeformular\nWeitere Informa
 tionen zur Veranstaltung finden Sie hier... http://bomi40.eu/de/service-ko
 mpetenz/veranstaltungen/ort/event/2201-women-change-it-digital-woman-wie-b
 erufliche-wege-und-vernetzung-in-der-it-gelingen
DTSTART:20210504T160000Z
DTEND:20210504T180000Z
LOCATION: Online an Ihrem PC oder Laptop ()
SUMMARY:Women change IT: Digital Woman – wie berufliche Wege und Vernetzung
  in der IT gelingen
URL:http://bomi40.eu/de/service-kompetenz/veranstaltungen/ort/event/2201-wo
 men-change-it-digital-woman-wie-berufliche-wege-und-vernetzung-in-der-it-g
 elingen
END:VEVENT
END:VCALENDAR
