BEGIN:VCALENDAR
VERSION:2.0
PRODID:-//http://bomi40.eu///NONSGML kigkonsult.se iCalcreator 2.10.15//
METHOD:PUBLISH
BEGIN:VEVENT
UID:20260419T204915CEST-4887jaPblx@http://bomi40.eu/
DTSTAMP:20260419T184915Z
DESCRIPTION:Schwerpunkt der Tagung ist das Thema Agri-Food-Automation. Betr
 achtet wird die ganze Wertschöpfungskette von Lebensmitteln. Die Tagung so
 ll den Wissens- und Technologietransfer fördern und richtet sich an Vertre
 terinnen und Vertreter aus Forschung\, Industrie\, Gewerbe\, Dienstleistun
 g\, Landwirtschaft\, Politik und Verwaltung.\nDie Durchführung der Tagung 
 erfolgt auf Basis eines Regierungsratsbeschlusses zur Förderung des Forsch
 ungs- und Technologietransfers in Tänikon.\nWeitere Informationen zur Vera
 nstaltung finden Sie hier... http://bomi40.eu/de/service-kompetenz/veranst
 altungen/ort/event/2205-2-innovationsforum-ernaehrungswirtschaft
DTSTART;VALUE=DATE:20211203
LOCATION: Swiss Future Farm\, Tänikon (Tanikon 1\, 8356 Aadorf\, Schweiz)
SUMMARY: 2. Innovationsforum Ernährungswirtschaft 
URL:http://bomi40.eu/de/service-kompetenz/veranstaltungen/ort/event/2205-2-
 innovationsforum-ernaehrungswirtschaft
END:VEVENT
END:VCALENDAR
