BEGIN:VCALENDAR
VERSION:2.0
PRODID:-//http://bomi40.eu///NONSGML kigkonsult.se iCalcreator 2.10.15//
METHOD:PUBLISH
BEGIN:VEVENT
UID:20260419T194332CEST-6885uEhbLz@http://bomi40.eu/
DTSTAMP:20260419T174332Z
DESCRIPTION:In dieser Veranstaltung wird die Gestaltung des Prozesses der B
 edarfsermittlung und Kompetenzentwicklung sowie die Bedeutung des Kompeten
 zmanagements näher betrachtet. Es wird die Frage diskutiert\, wie die Proz
 esse der Bedarfsermittlung und Kompetenzentwicklung gerade in KMU strategi
 sch und operativ gestaltet werden können und wie sich Kompetenzmanagement 
 in Unternehmen darstellen kann.\nProgramm:\n17:00 Uhr - Begrüßung17:05 Uhr
  - Impuls: Dynamisches Kompetenzmanagement17:20 Uhr - Aus der Praxis I17:3
 5 Uhr - Aus der Praxis II17:50 Uhr - Diskussion mit den Teilnehmenden18:25
  Uhr - Zusammenfassung und Schlusswort\nPraxisbeispiele:\nHeidrun Hausen\,
  Leiterin Personal der DELO Industrie Klebstoffe GmbH & Co. KGaADr. Michae
 l Guppenberger\, Bereichsleiter des Ressort Non-Insurance\, Products & Dev
 elopment der msg systems AG\nKostenlose Anmeldung.\nWeitere Informationen 
 zum Programm und zur Veranstaltung finden Sie hier... http://bomi40.eu/de/
 service-kompetenz/veranstaltungen/ort/event/2206-digitale-kompetenzen-gezi
 elt-aufbauen-welche-strategischen-schritte-sind-erforderlich
DTSTART:20210622T150000Z
DTEND:20210622T163000Z
LOCATION: Online an Ihrem PC oder Laptop ()
SUMMARY:Digitale Kompetenzen gezielt aufbauen: Welche strategischen Schritt
 e sind erforderlich?
URL:http://bomi40.eu/de/service-kompetenz/veranstaltungen/ort/event/2206-di
 gitale-kompetenzen-gezielt-aufbauen-welche-strategischen-schritte-sind-erf
 orderlich
END:VEVENT
END:VCALENDAR
