BEGIN:VCALENDAR
VERSION:2.0
PRODID:-//http://bomi40.eu///NONSGML kigkonsult.se iCalcreator 2.10.15//
METHOD:PUBLISH
BEGIN:VEVENT
UID:20260419T210844CEST-7604eeBvOK@http://bomi40.eu/
DTSTAMP:20260419T190844Z
DESCRIPTION:Ziel der Online-Veranstaltung ist es\, Übernahmekandidatinnen a
 uf ihrem Weg in die Selbstständigkeit zu ermutigen und zu unterstützen sow
 ie Unternehmen zu motivieren\, geeignete Nachfolgekandidatinnen zu finden.
 \nDie Online-Veranstaltung richtet sich an alle Frauen\, die den Schritt i
 n die Selbstständigkeit durch den Einstieg in ein bestehendes Unternehmen 
 oder dessen Übernahme wagen oder bereits gewagt haben.\nProgramm:\n09:30 U
 hr: Begrüßung 09:40 Uhr: Fachvortrag mit dem Titel „WIN/WIN-Situationen fü
 r eine erfolgreiche Unternehmenstransaktion“10:30 Uhr: Erfahrungsbericht e
 iner Unternehmensnachfolgeregelung11:00 Uhr: Fragerunde11:15 Uhr: Vorstell
 ung der Angebote der Handwerkskammer Reutlingen11:20 Uhr: Vorstellung der 
 Angebote der Kontaktstelle Frau und Beruf Ravensburg – Bodensee-Oberschwab
 en11:25 Uhr: Vorstellung der Angebote der IHK Bodensee-Oberschwaben11:30 U
 hr: Verabschiedung\nZielgruppe\nExistenzgründer\, Klein- und Kleinstuntern
 ehmer\nAnmeldeformular\nWeitere Informationen finden Sie hier... http://bo
 mi40.eu/de/service-kompetenz/veranstaltungen/ort/event/2208-online-vortrag
 -nachfolge-ist-weiblich
DTSTART:20210621T073000Z
DTEND:20210621T093000Z
LOCATION: Online an Ihrem PC oder Laptop ()
SUMMARY:Online-Vortrag: Nachfolge ist weiblich!
URL:http://bomi40.eu/de/service-kompetenz/veranstaltungen/ort/event/2208-on
 line-vortrag-nachfolge-ist-weiblich
END:VEVENT
END:VCALENDAR
