BEGIN:VCALENDAR
VERSION:2.0
PRODID:-//http://bomi40.eu///NONSGML kigkonsult.se iCalcreator 2.10.15//
METHOD:PUBLISH
BEGIN:VEVENT
UID:20260419T194110CEST-4433ZsFjHB@http://bomi40.eu/
DTSTAMP:20260419T174110Z
DESCRIPTION:Bei der kostenlosen 4-teiligen Online-Seminarreihe informieren 
 und diskutieren mit Ihnen eingeladene Expert*innen über aktuelle und anwen
 dungsnahe Themen im Bereich IPR (Intellectual Property Rights).\nVortragen
 de: Mag. Martin Kohlhaupt\, Anwalt für Marken- und Urheberrecht\, Kanzlei 
 Konzett Kohlhaupt Folie Rechtsanwälte\nInhalt der Veranstaltung:\nWas ist 
 eine Marke/ein Design und was wird geschützt? Was ist zu beachten bei Mark
 en -und Designanmeldungen? Was muss vor der Anmeldung geprüft/berücksichti
 gt werden?\nAnmeldeformular\nWeitere Informationen finden Sie hier... http
 ://bomi40.eu/de/service-kompetenz/veranstaltungen/ort/event/2212-ipr-semin
 arreihe-teil-2-4-markenschutz-und-urheberrecht
DTSTART:20210624T140000Z
DTEND:20210624T153000Z
LOCATION: Online an Ihrem PC oder Laptop ()
SUMMARY:IPR Seminarreihe\, Teil 2 / 4: Markenschutz und Urheberrecht
URL:http://bomi40.eu/de/service-kompetenz/veranstaltungen/ort/event/2212-ip
 r-seminarreihe-teil-2-4-markenschutz-und-urheberrecht
END:VEVENT
END:VCALENDAR
